BEGIN:VCALENDAR
VERSION:2.0
PRODID:-//GunStuff TV - ECPv6.15.20//NONSGML v1.0//EN
CALSCALE:GREGORIAN
METHOD:PUBLISH
X-WR-CALNAME:GunStuff TV
X-ORIGINAL-URL:https://gunstuff.tv
X-WR-CALDESC:Events for GunStuff TV
REFRESH-INTERVAL;VALUE=DURATION:PT1H
X-Robots-Tag:noindex
X-PUBLISHED-TTL:PT1H
BEGIN:VTIMEZONE
TZID:UTC
BEGIN:STANDARD
TZOFFSETFROM:+0000
TZOFFSETTO:+0000
TZNAME:UTC
DTSTART:20250101T000000
END:STANDARD
END:VTIMEZONE
BEGIN:VEVENT
DTSTART;TZID=UTC:20260422T010000
DTEND;TZID=UTC:20260422T033000
DTSTAMP:20260422T065751
CREATED:20260421T200300Z
LAST-MODIFIED:20260421T200300Z
UID:10008115-1776819600-1776828600@gunstuff.tv
SUMMARY:BRPC Tuesday Night Steel 4-21-26
DESCRIPTION:BRPC Tuesday Night Steel (First and Third Tuesdays)\n$15.00 per shooter free for juniors (under 16). $10.00 for BRPC members CASH ONLY.\nSign in will open at 5:30pm at the RSO office with safety briefing at 6:00.\n3 stages of steel shooting fun (36 total participants). Holsters will be required with weapons only being handled at the shooting line/start position when told to make ready. Lights will be on for when daylight hours are shorter. Everyone is expected to help reset the targets. Basic safety equipment is required including safety glasses and Ear protection with a brimmed hat being recommended for protection from falling spauling. Scoring will be time plus\, and the top shooters for each squad will compete against each other on the dueling stage at the end of the night. Rules will be based on USPSA standards. 100 rounds recommended. PCC’s will compete separately in their own class for the Head-to-Head shoot at the end of the match. Top shooter for each division will receive a $25.00 gift card.\nRange commands\n	Make Ready\n	Are you ready\n	Stand by (followed by the shot timers’ beep)\n	If finished (remove mag) and show clear\n	If clear hammer down and holster.\nDivisions\n	Optic\n	Iron sight\n        PCC (9mm only\, chamber flag and bag required)\nA minimum of 3 mags required holding at least 45 rounds\nTwo mag pouches is a good idea\nNo drawing from concealment\nNo Serpa style holsters\nNo cross draw/shoulder rigs\nNo Rim fire\nNo Sig Sauer P320 pistols allowed (BRPC rule)\nRange has a 10mph speed limit\nRange crew free to shoot. Up to 4 people\nNo calibers smaller than .380 auto.
URL:https://gunstuff.tv/event/brpc-tuesday-night-steel-4-21-26/
LOCATION:2700 utah st\, Boulder City\, NV\, United States
GEO:36.020563;-114.82952
END:VEVENT
BEGIN:VEVENT
DTSTART;TZID=UTC:20260408T010000
DTEND;TZID=UTC:20260408T033000
DTSTAMP:20260422T065751
CREATED:20260407T195401Z
LAST-MODIFIED:20260407T195401Z
UID:10006909-1775610000-1775619000@gunstuff.tv
SUMMARY:BRPC Tuesday Night Steel 4-7-26
DESCRIPTION:BRPC Tuesday Night Steel (First and Third Tuesdays)\n$15.00 per shooter free for juniors (under 16). $10.00 for BRPC members CASH ONLY.\nSign in will open at 5:30pm at the RSO office with safety briefing at 6:00.\n3 stages of steel shooting fun (36 total participants). Holsters will be required with weapons only being handled at the shooting line/start position when told to make ready. Lights will be on for when daylight hours are shorter. Everyone is expected to help reset the targets. Basic safety equipment is required including safety glasses and Ear protection with a brimmed hat being recommended for protection from falling spauling. Scoring will be time plus\, and the top shooters for each squad will compete against each other on the dueling stage at the end of the night. Rules will be based on USPSA standards. 100 rounds recommended. PCC’s will compete separately in their own class for the Head-to-Head shoot at the end of the match. Top shooter for each division will receive a $25.00 gift card.\nRange commands\n	Make Ready\n	Are you ready\n	Stand by (followed by the shot timers’ beep)\n	If finished (remove mag) and show clear\n	If clear hammer down and holster.\nDivisions\n	Optic\n	Iron sight\n        PCC (9mm only\, chamber flag and bag required)\nA minimum of 3 mags required holding at least 45 rounds\nTwo mag pouches is a good idea\nNo drawing from concealment\nNo Serpa style holsters\nNo cross draw/shoulder rigs\nNo Rim fire\nNo Sig Sauer P320 pistols allowed (BRPC rule)\nRange has a 10mph speed limit\nRange crew free to shoot. Up to 4 people\nNo calibers smaller than .380 auto.
URL:https://gunstuff.tv/event/brpc-tuesday-night-steel-4-7-26/
LOCATION:2700 utah st\, Boulder City\, NV\, United States
GEO:36.020563;-114.82952
END:VEVENT
END:VCALENDAR