BEGIN:VCALENDAR
VERSION:2.0
PRODID:-//GunStuff TV - ECPv6.15.20//NONSGML v1.0//EN
CALSCALE:GREGORIAN
METHOD:PUBLISH
X-WR-CALNAME:GunStuff TV
X-ORIGINAL-URL:https://gunstuff.tv
X-WR-CALDESC:Events for GunStuff TV
REFRESH-INTERVAL;VALUE=DURATION:PT1H
X-Robots-Tag:noindex
X-PUBLISHED-TTL:PT1H
BEGIN:VTIMEZONE
TZID:UTC
BEGIN:STANDARD
TZOFFSETFROM:+0000
TZOFFSETTO:+0000
TZNAME:UTC
DTSTART:20250101T000000
END:STANDARD
END:VTIMEZONE
BEGIN:VEVENT
DTSTART;TZID=UTC:20260422T130000
DTEND;TZID=UTC:20260422T160000
DTSTAMP:20260422T221415
CREATED:20260421T200304Z
LAST-MODIFIED:20260421T200304Z
UID:10008153-1776862800-1776873600@gunstuff.tv
SUMMARY:ORSA Steel Wednesday April 22 \, 2026
DESCRIPTION:4 Steel Challenge stages\n100 round minimum\n– – – – – – – – – –\nDivision limit is two guns\n– – – – – – – – – –\nFirst gun: $10 Member / $15 Non-Member\nPre-Teens / Juniors: $5 per gun\n2nd gun $5\n– – – – – – – – – –\nNOTE: ONCE YOU REGISTER\, PLEASE SQUAD RIGHT AWAY. IF YOU HAVE REGISTERED\, BUT NOT SQUADED\, IT FORCES OTHER SHOOTERS TO THE WAITLIST ONCE REGISTRATION HAS HIT MAX CAPACITY.   IF YOU HAVE ANY QUESTIONS\, PLEASE FEEL FREE TO CONTACT US. THANK YOU.\n– – – – – – – – – –\nIf you are having trouble finding the entrance to the correct side of ORSA\, put “ORSA Action Pistol Entrance” into Google Maps.
URL:https://gunstuff.tv/event/orsa-steel-wednesday-april-22-2026/
LOCATION:270 Hermitage Blvd\, Oak Ridge\, TN\, United States
GEO:36.019381;-84.243175
END:VEVENT
END:VCALENDAR