BEGIN:VCALENDAR
VERSION:2.0
PRODID:-//GunStuff TV - ECPv6.15.20//NONSGML v1.0//EN
CALSCALE:GREGORIAN
METHOD:PUBLISH
X-WR-CALNAME:GunStuff TV
X-ORIGINAL-URL:https://gunstuff.tv
X-WR-CALDESC:Events for GunStuff TV
REFRESH-INTERVAL;VALUE=DURATION:PT1H
X-Robots-Tag:noindex
X-PUBLISHED-TTL:PT1H
BEGIN:VTIMEZONE
TZID:UTC
BEGIN:STANDARD
TZOFFSETFROM:+0000
TZOFFSETTO:+0000
TZNAME:UTC
DTSTART:20250101T000000
END:STANDARD
END:VTIMEZONE
BEGIN:VEVENT
DTSTART;TZID=UTC:20260418T130000
DTEND;TZID=UTC:20260418T180000
DTSTAMP:20260424T073820
CREATED:20260414T200222Z
LAST-MODIFIED:20260414T200222Z
UID:10007753-1776517200-1776535200@gunstuff.tv
SUMMARY:TSGC Rifle Match
DESCRIPTION:Thanks for checking out the 2nd annual TSGC rifle match.\nDue to early sell-out of this match\, I’ve added a PM Squad. The PM Squad will start at 1oclock. If you want to shoot PM\, squad yourself in squad 2. If you want to shoot AM (8AM) squad yourself in squad 1.\nThis year we will be incorporating an FRT division. You will be required to shoot all paper with the FRT engaged. Steel targets will be shooters choice.\n5 stages. Roughly 100-120 rounds.\nNo barrel length or equipment restrictions. 223 (or equivalent) calibers and up. Supressors are encouraged\, but you must have someone filming your stage to ensure accurate time inputs for the tablet in the case the timer misses the last shot.\nPlease ensure your firearm complys with all local\, state\, and federal laws. There may be some further distance steel.\nNo setup\, no teardown. Just come shoot. (and reset\, duh)
URL:https://gunstuff.tv/event/tsgc-rifle-match/
LOCATION:26269 411th Ave\, Ethan South Dakota\, United States
END:VEVENT
END:VCALENDAR