BEGIN:VCALENDAR
VERSION:2.0
PRODID:-//GunStuff TV - ECPv6.15.20//NONSGML v1.0//EN
CALSCALE:GREGORIAN
METHOD:PUBLISH
X-WR-CALNAME:GunStuff TV
X-ORIGINAL-URL:https://gunstuff.tv
X-WR-CALDESC:Events for GunStuff TV
REFRESH-INTERVAL;VALUE=DURATION:PT1H
X-Robots-Tag:noindex
X-PUBLISHED-TTL:PT1H
BEGIN:VTIMEZONE
TZID:UTC
BEGIN:STANDARD
TZOFFSETFROM:+0000
TZOFFSETTO:+0000
TZNAME:UTC
DTSTART:20250101T000000
END:STANDARD
END:VTIMEZONE
BEGIN:VEVENT
DTSTART;TZID=UTC:20260418T130000
DTEND;TZID=UTC:20260418T180000
DTSTAMP:20260424T073906
CREATED:20260414T200214Z
LAST-MODIFIED:20260414T200214Z
UID:10007684-1776517200-1776535200@gunstuff.tv
SUMMARY:Blue River Rifle and Pistol Club April 2026 NRL22
DESCRIPTION:Monthly NRL22 match with two bonus stages.  Registration and sight-in is from 8:00-9:00.  The match and safety briefing begin at 9:00.
URL:https://gunstuff.tv/event/blue-river-rifle-and-pistol-club-april-2026-nrl22/
LOCATION:2590 Highway 133\, Blue River WI\, United States
END:VEVENT
END:VCALENDAR