BEGIN:VCALENDAR
VERSION:2.0
PRODID:-//GunStuff TV - ECPv6.15.20//NONSGML v1.0//EN
CALSCALE:GREGORIAN
METHOD:PUBLISH
X-ORIGINAL-URL:https://gunstuff.tv
X-WR-CALDESC:Events for GunStuff TV
REFRESH-INTERVAL;VALUE=DURATION:PT1H
X-Robots-Tag:noindex
X-PUBLISHED-TTL:PT1H
BEGIN:VTIMEZONE
TZID:UTC
BEGIN:STANDARD
TZOFFSETFROM:+0000
TZOFFSETTO:+0000
TZNAME:UTC
DTSTART:20250101T000000
END:STANDARD
END:VTIMEZONE
BEGIN:VEVENT
DTSTART;TZID=UTC:20260411T123000
DTEND;TZID=UTC:20260411T180000
DTSTAMP:20260424T104704
CREATED:20260407T195436Z
LAST-MODIFIED:20260407T195436Z
UID:10007227-1775910600-1775930400@gunstuff.tv
SUMMARY:Mayberry DMR/Carbine Match 4/11
DESCRIPTION:This is an Entry level Match designed to give New to Highly Experienced level shooters a chance to see what their Semi-Autos can do! We will be shooting from ranges from 25-600 Yards from a variety of conventional and new shooting positions. Please make sure to bring your rife\, at least 4 magazines\, and any gear you want to use or try out. We will have 4 divisions DMR\, Recce\, and OPEN. SNIPER DIVISION FOR ALL BOLT Rifles. New shooters are VERY HIGHLY encouraged as we will have a wide variety of talented and experienced shooters attending. We will share any knowledge and equipment to help out! Round count is expected to be around 100 Rounds.(Could be more that is on you!) Please Email Match Director with any questions. Payment will be Collected at Registration at 8:30 am Day of the match. Please bring EXACT Cash. BONUS Stage is $10 Extra for 50-50 Payout.
URL:https://gunstuff.tv/event/mayberry-dmr-carbine-match-4-11/
LOCATION:2555 Mayberry Road\, Westminster Maryland\, United States
END:VEVENT
END:VCALENDAR