BEGIN:VCALENDAR
VERSION:2.0
PRODID:-//GunStuff TV - ECPv6.15.20//NONSGML v1.0//EN
CALSCALE:GREGORIAN
METHOD:PUBLISH
X-WR-CALNAME:GunStuff TV
X-ORIGINAL-URL:https://gunstuff.tv
X-WR-CALDESC:Events for GunStuff TV
REFRESH-INTERVAL;VALUE=DURATION:PT1H
X-Robots-Tag:noindex
X-PUBLISHED-TTL:PT1H
BEGIN:VTIMEZONE
TZID:UTC
BEGIN:STANDARD
TZOFFSETFROM:+0000
TZOFFSETTO:+0000
TZNAME:UTC
DTSTART:20250101T000000
END:STANDARD
END:VTIMEZONE
BEGIN:VEVENT
DTSTART;TZID=UTC:20260425T120000
DTEND;TZID=UTC:20260425T220000
DTSTAMP:20260421T172257
CREATED:20260421T200344Z
LAST-MODIFIED:20260421T200344Z
UID:10008505-1777118400-1777154400@gunstuff.tv
SUMMARY:BGSL 3 GUN April 25th 2026
DESCRIPTION:5 stages\n200 rifle (no green tips or penetrators)\n200 bird no larger than 7.5\n200 9mm\nSetup begins at 0800\nGoing hot at 1000\nBeginners welcome – please inform R.O.
URL:https://gunstuff.tv/event/bgsl-3-gun-april-25th-2026/
LOCATION:2500 Handy’s Bend Rd.\, Wilmore KY\, United States
END:VEVENT
END:VCALENDAR