BEGIN:VCALENDAR
VERSION:2.0
PRODID:-//GunStuff TV - ECPv6.15.20//NONSGML v1.0//EN
CALSCALE:GREGORIAN
METHOD:PUBLISH
X-WR-CALNAME:GunStuff TV
X-ORIGINAL-URL:https://gunstuff.tv
X-WR-CALDESC:Events for GunStuff TV
REFRESH-INTERVAL;VALUE=DURATION:PT1H
X-Robots-Tag:noindex
X-PUBLISHED-TTL:PT1H
BEGIN:VTIMEZONE
TZID:UTC
BEGIN:STANDARD
TZOFFSETFROM:+0000
TZOFFSETTO:+0000
TZNAME:UTC
DTSTART:20250101T000000
END:STANDARD
END:VTIMEZONE
BEGIN:VEVENT
DTSTART;TZID=UTC:20260425T130000
DTEND;TZID=UTC:20260425T200000
DTSTAMP:20260424T085536
CREATED:20260421T200323Z
LAST-MODIFIED:20260421T200323Z
UID:10008313-1777122000-1777147200@gunstuff.tv
SUMMARY:New England Regional (NER) Galactic Pistol Alliance GPA April Match
DESCRIPTION:Tier 1 monthly match sponsored by New England Regional GPA at Harvard Sportsman club.\nCurrent GPA rules can be found here: https://galacticpistolalliance.com/wp-content/uploads/2025/10/GPA-Rule-Book-10-2-25.pdf\nAppendix holsters are permitted at HSC GPA matches.\nStage count: 6 \, may include low light stage\nRound count: TBD\nShooters’ meeting indoor\, 9:15 AM. Please be ready for the first shots at 9:30 AM. Registration\, payment\, signing HSC Liability Waiver\, and self-squadding via Practiscore are mandatory (no walk-ins).\nWe reserve the right to move shooters to balance squads. If you want to squad together with friends as a group — here are simple DIY instructions: https://community.practiscore.com/t/how-to-group-registration/303\nIn short\, the first registrant creates a group code and shares it with others during registration.\nWaitlisting is enabled once the match fills up. If you are on the waitlist\, you may be approved to shoot up to the night before the match. If you are approved to shoot and will cancel\, please do so as soon as possible as a courtesy to other waitlisted shooters.\nRefunds incur a $5 fee charged by the credit card processing company. Match fee will not be refunded if requested after 8 PM on Wednesday (48 hours before registration closes).\nIf you want to volunteer as a staff member\, please check the STAFF button by the pricing field. If you have volunteered to be staff\, please squad yourself on the Staff Squad. . The Match Director will squad staff members.\nWith match registration questions\, please get in touch with Lou Peragallo (lou.peragallo@yahoo.com)
URL:https://gunstuff.tv/event/new-england-regional-ner-galactic-pistol-alliance-gpa-april-match/
LOCATION:250 Littleton County Road\, Harvard\, MA\, United States
GEO:42.500187;-71.575864
END:VEVENT
END:VCALENDAR