BEGIN:VCALENDAR
VERSION:2.0
PRODID:-//GunStuff TV - ECPv6.15.20//NONSGML v1.0//EN
CALSCALE:GREGORIAN
METHOD:PUBLISH
X-WR-CALNAME:GunStuff TV
X-ORIGINAL-URL:https://gunstuff.tv
X-WR-CALDESC:Events for GunStuff TV
REFRESH-INTERVAL;VALUE=DURATION:PT1H
X-Robots-Tag:noindex
X-PUBLISHED-TTL:PT1H
BEGIN:VTIMEZONE
TZID:UTC
BEGIN:STANDARD
TZOFFSETFROM:+0000
TZOFFSETTO:+0000
TZNAME:UTC
DTSTART:20250101T000000
END:STANDARD
END:VTIMEZONE
BEGIN:VEVENT
DTSTART;TZID=UTC:20260415T230000
DTEND;TZID=UTC:20260416T020000
DTSTAMP:20260424T085525
CREATED:20260414T200159Z
LAST-MODIFIED:20260414T200159Z
UID:10007554-1776294000-1776304800@gunstuff.tv
SUMMARY:Phillipsburg IDPA April 2026 Wednesday Night Match
DESCRIPTION:*** All Non-PPC Members will need to sign a guest waiver one time per year to participate (Available during check-in) ***\nThe IDPA HQ has decided that due to the safety concerns surrounding Sig P320 handguns\, all variants of the P320 is banned from IDPA matches until further notice.\nFour stages\, less than 80 rounds. There is always the possibility of a low light stage. Indoor and outdoor\, weather and daylight permitting\, otherwise indoor only.\nShooters who have never previously competed in an action pistol match (IDPA\, USPSA\, ICORE) are required to attend a safety briefing at 5:30pm at the range on the day of the match. Shooters needing a safety briefing MUST indicate the need on the sign up page. Failure to do so will result in no briefing being held and the shooter being turned away from the match.\nThere are 6 places reserved for Safety Officers – we need enough to run the match\, We cannot do it alone. If you are current on your SO certification\, please indicate this when you sign up . You will be placed in a reserved slot on a first come\, first served basis.\nHearing protection and eye protection\, with side impact protection\, are required.\nSSP and PCC division capacity is 10 rounds due to NJ State law.
URL:https://gunstuff.tv/event/phillipsburg-idpa-april-2026-wednesday-night-match/
LOCATION:25 Howard St.\, Phillipsburg\, NJ\, United States
GEO:40.69371;-75.19018
END:VEVENT
END:VCALENDAR