BEGIN:VCALENDAR
VERSION:2.0
PRODID:-//GunStuff TV - ECPv6.15.20//NONSGML v1.0//EN
CALSCALE:GREGORIAN
METHOD:PUBLISH
X-WR-CALNAME:GunStuff TV
X-ORIGINAL-URL:https://gunstuff.tv
X-WR-CALDESC:Events for GunStuff TV
REFRESH-INTERVAL;VALUE=DURATION:PT1H
X-Robots-Tag:noindex
X-PUBLISHED-TTL:PT1H
BEGIN:VTIMEZONE
TZID:UTC
BEGIN:STANDARD
TZOFFSETFROM:+0000
TZOFFSETTO:+0000
TZNAME:UTC
DTSTART:20250101T000000
END:STANDARD
END:VTIMEZONE
BEGIN:VEVENT
DTSTART;TZID=UTC:20260425T150000
DTEND;TZID=UTC:20260425T200000
DTSTAMP:20260424T085525
CREATED:20260421T200317Z
LAST-MODIFIED:20260421T200317Z
UID:10008268-1777129200-1777147200@gunstuff.tv
SUMMARY:OKCGC Practical Rifle Match April 2026
DESCRIPTION:Monthly Practical Rifle Match Match.  Sign-in begins at 9:15
URL:https://gunstuff.tv/event/okcgc-practical-rifle-match-april-2026/
LOCATION:24507 N. Hiwassee\, Arcadia\, OK\, United States
GEO:35.672506;-97.309856
END:VEVENT
END:VCALENDAR