BEGIN:VCALENDAR
VERSION:2.0
PRODID:-//GunStuff TV - ECPv6.15.20//NONSGML v1.0//EN
CALSCALE:GREGORIAN
METHOD:PUBLISH
X-ORIGINAL-URL:https://gunstuff.tv
X-WR-CALDESC:Events for GunStuff TV
REFRESH-INTERVAL;VALUE=DURATION:PT1H
X-Robots-Tag:noindex
X-PUBLISHED-TTL:PT1H
BEGIN:VTIMEZONE
TZID:UTC
BEGIN:STANDARD
TZOFFSETFROM:+0000
TZOFFSETTO:+0000
TZNAME:UTC
DTSTART:20250101T000000
END:STANDARD
END:VTIMEZONE
BEGIN:VEVENT
DTSTART;TZID=UTC:20260411T150000
DTEND;TZID=UTC:20260411T200000
DTSTAMP:20260424T104122
CREATED:20260407T195419Z
LAST-MODIFIED:20260407T195419Z
UID:10007055-1775919600-1775937600@gunstuff.tv
SUMMARY:OKCGC Shoot Sig Practice Match - April 2026
DESCRIPTION:Match starts: 10:00 AM · Match ends: 3:00 PM\nCheck-In begins at 9:00 AM\nNOTE: Registration on the morning of the match ends at 9:45 AM.\nLocation:\nAction Pistol Range\n24507 N. Hiwassee\nArcadia\, Oklahoma 73007\nGPS Coordinates for OKCGC Action Pistol Range: 35.721087\, -97.300693\nDescription:\nShoot SIG style match. Ten rounds per magazine REQUIRED to shoot this match. It will be set up and run like an outdoor Shoot SIG match and will have six divisions\, Sig Pistol Iron\, Sig Pistol Optics\, 365 Iron\, 365 Optic\, Sig PCC\, and P322. The major difference is you can shoot any centerfire pistol\, rimfire pistol\, or PCC you want\, as this IS NOT a Shoot SIG sanctioned event. This will be an opportunity to practice for Shoot SIG matches\, or just shoot for fun.\nRound count is minimum 56 to maximum 88 rounds for each division.\nWe follow a strict “COLD” range policy\, all firearms are to remain unloaded and stored in one of the following conditions: bagged / holstered (with the slide locked back) / flagged. And handling of firearms is only allowed in the designated Safe Areas or on the firing line under direction of the RO. You may load your mags anywhere except the Safe Area.\nDivisions:\nSig Pistol Iron – full size centerfire pistol with iron sights (need 10+ capacity)\nSig Pistol Optic – full size centerfire pistol with optic (need 10+ capacity)\n365 Iron – compact or subcompact centerfire pistol with iron sights (need 10+ capacity)\n365 Optic – compact or subcompact centerfire pistol with optic (need 10+ capacity)\nP322 – rimfire pistol (need 10+ capacity)\nPCC – rimfire or centerfire PCC (need 10+ capacity)\nClarification of divisions will be handled at the time of check in.\nStages:\nX Series\nV Crown\nDH3\nTime Plus Scoring\nTHREE (3) DIVISION ENTRIES PER PERSON PERMITTED\nMatch Fees: $15.00\nOKCGC members: $10.00\nAdditional Entry Fee: $10.00 (members & non-members)\nPayment: Cash only payment is due at the time of check in. Exact change is appreciated. We ask that you check in and pay as soon as you get to the range to help the registration and squadding process move along efficiently.
URL:https://gunstuff.tv/event/okcgc-shoot-sig-practice-match-april-2026/
LOCATION:24507 N. Hiwassee\, Arcadia\, OK\, United States
GEO:35.672506;-97.309856
END:VEVENT
END:VCALENDAR