BEGIN:VCALENDAR
VERSION:2.0
PRODID:-//GunStuff TV - ECPv6.15.20//NONSGML v1.0//EN
CALSCALE:GREGORIAN
METHOD:PUBLISH
X-ORIGINAL-URL:https://gunstuff.tv
X-WR-CALDESC:Events for GunStuff TV
REFRESH-INTERVAL;VALUE=DURATION:PT1H
X-Robots-Tag:noindex
X-PUBLISHED-TTL:PT1H
BEGIN:VTIMEZONE
TZID:UTC
BEGIN:STANDARD
TZOFFSETFROM:+0000
TZOFFSETTO:+0000
TZNAME:UTC
DTSTART:20250101T000000
END:STANDARD
END:VTIMEZONE
BEGIN:VEVENT
DTSTART;TZID=UTC:20260421T223000
DTEND;TZID=UTC:20260422T010000
DTSTAMP:20260422T084209
CREATED:20260421T200302Z
LAST-MODIFIED:20260421T200302Z
UID:10008136-1776810600-1776819600@gunstuff.tv
SUMMARY:The Vault Indoor IDPA - 4-21-2026
DESCRIPTION:Welcome to the registration page for the Indoor IDPA match at The Vault in Marietta\, GA.\nThis is a local Tier I IDPA match held every Tuesday. We try to complete between 4-6 stages. The number of rounds required is between 80-100 rounds. Please bring at least 100 rounds in case of malfunction or reshoot. No steel-core or steel-cased ammunition is allowed on the range. Common calibers are available for purchase from The Vault.\nPlease sign in at the counter to fill out paperwork and process payment prior to entering the range bays. The match begins at 6:30PM\, and shooters are encouraged to arrive prior to 6:30 to assist with setup. New shooters please arrive 30 minutes prior (6:00) to receive a safety briefing. A short video is required for shooters who have not visited The Vault prior to the match\, so if this is your first time at The Vault please allow time to watch the safety video.\nRegistration is open to current IDPA members and anyone interested in becoming an IDPA member and competitor. If you are not a member of IDPA\, leave your IDPA member number blank on the registration form. While membership is not required to shoot local matches\, shooters are encouraged after the third match to join. For more information on the benefits of membership\, and to join IDPA please visit the following link: https://www.idpa.com/membership/\nSchedule:\n6:00PM – Setup\, New Shooter Safety Briefing\n6:30PM – Club Announcements\, Shooting Begins\n9:00PM – Match Ends\, Teardown of Stages\, Meal at Local Restaurant\nWe look forward to seeing you soon!
URL:https://gunstuff.tv/event/the-vault-indoor-idpa-4-21-2026/
LOCATION:2445 Austell Road SW\, Conley\, GA\, United States
GEO:33.952602;-84.549933
END:VEVENT
BEGIN:VEVENT
DTSTART;TZID=UTC:20260407T223000
DTEND;TZID=UTC:20260408T010000
DTSTAMP:20260422T084209
CREATED:20260407T195401Z
LAST-MODIFIED:20260407T195401Z
UID:10006904-1775601000-1775610000@gunstuff.tv
SUMMARY:The Vault Indoor IDPA - 4-7-2026
DESCRIPTION:Welcome to the registration page for the Indoor IDPA match at The Vault in Marietta\, GA.\nThis is a local Tier I IDPA match held every Tuesday. We try to complete between 4-6 stages. The number of rounds required is between 80-100 rounds. Please bring at least 100 rounds in case of malfunction or reshoot. No steel-core or steel-cased ammunition is allowed on the range. Common calibers are available for purchase from The Vault.\nPlease sign in at the counter to fill out paperwork and process payment prior to entering the range bays. The match begins at 6:30PM\, and shooters are encouraged to arrive prior to 6:30 to assist with setup. New shooters please arrive 30 minutes prior (6:00) to receive a safety briefing. A short video is required for shooters who have not visited The Vault prior to the match\, so if this is your first time at The Vault please allow time to watch the safety video.\nRegistration is open to current IDPA members and anyone interested in becoming an IDPA member and competitor. If you are not a member of IDPA\, leave your IDPA member number blank on the registration form. While membership is not required to shoot local matches\, shooters are encouraged after the third match to join. For more information on the benefits of membership\, and to join IDPA please visit the following link: https://www.idpa.com/membership/\nSchedule:\n6:00PM – Setup\, New Shooter Safety Briefing\n6:30PM – Club Announcements\, Shooting Begins\n9:00PM – Match Ends\, Teardown of Stages\, Meal at Local Restaurant\nWe look forward to seeing you soon!
URL:https://gunstuff.tv/event/the-vault-indoor-idpa-4-7-2026/
LOCATION:2445 Austell Road SW\, Conley\, GA\, United States
GEO:33.952602;-84.549933
END:VEVENT
END:VCALENDAR