BEGIN:VCALENDAR
VERSION:2.0
PRODID:-//GunStuff TV - ECPv6.15.20//NONSGML v1.0//EN
CALSCALE:GREGORIAN
METHOD:PUBLISH
X-WR-CALNAME:GunStuff TV
X-ORIGINAL-URL:https://gunstuff.tv
X-WR-CALDESC:Events for GunStuff TV
REFRESH-INTERVAL;VALUE=DURATION:PT1H
X-Robots-Tag:noindex
X-PUBLISHED-TTL:PT1H
BEGIN:VTIMEZONE
TZID:UTC
BEGIN:STANDARD
TZOFFSETFROM:+0000
TZOFFSETTO:+0000
TZNAME:UTC
DTSTART:20250101T000000
END:STANDARD
END:VTIMEZONE
BEGIN:VEVENT
DTSTART;TZID=UTC:20260425T140000
DTEND;TZID=UTC:20260425T190000
DTSTAMP:20260424T085804
CREATED:20260421T200326Z
LAST-MODIFIED:20260421T200326Z
UID:10008347-1777125600-1777143600@gunstuff.tv
SUMMARY:Lone Star Action Shooters IDPA April Match
DESCRIPTION:April Club Match Safety Briefing starts at 08:30. Match Starts at 09:00.
URL:https://gunstuff.tv/event/lone-star-action-shooters-idpa-april-match/
LOCATION:2410 Miller rd\, Midlothian TX\, United States
END:VEVENT
END:VCALENDAR