BEGIN:VCALENDAR
VERSION:2.0
PRODID:-//GunStuff TV - ECPv6.15.20//NONSGML v1.0//EN
CALSCALE:GREGORIAN
METHOD:PUBLISH
X-WR-CALNAME:GunStuff TV
X-ORIGINAL-URL:https://gunstuff.tv
X-WR-CALDESC:Events for GunStuff TV
REFRESH-INTERVAL;VALUE=DURATION:PT1H
X-Robots-Tag:noindex
X-PUBLISHED-TTL:PT1H
BEGIN:VTIMEZONE
TZID:UTC
BEGIN:STANDARD
TZOFFSETFROM:+0000
TZOFFSETTO:+0000
TZNAME:UTC
DTSTART:20250101T000000
END:STANDARD
END:VTIMEZONE
BEGIN:VEVENT
DTSTART;TZID=UTC:20260425T130000
DTEND;TZID=UTC:20260425T200000
DTSTAMP:20260424T085457
CREATED:20260421T200323Z
LAST-MODIFIED:20260421T200323Z
UID:10008317-1777122000-1777147200@gunstuff.tv
SUMMARY:Southern Michigan Precision Rifle Series\, April 2026
DESCRIPTION:This will be a precision rifle series rimfire match. .22 LR only..100+ rounds\, 10 stages\, 10+ shots per stage. Please have sight settings for 25 to 300 yds. Eye and ear protection mandatory\, and please have a safe trigger\, we will be going by PRS Series rules for safety and DQ’s. $25.00 match fee to be paid at the match\, Juniors 16 and under free. Juniors 17 and under will require a parent to be present. Please sign up both the parent and the junior.\nThose that register will have guaranteed positions at the match.\nLunch will be provided.\n.\nMatch fees are due at the match\, in cash.\nMatch safety meeting at 9:00 AM. Sight in starts at 9:30. Match starts at 10:00.
URL:https://gunstuff.tv/event/southern-michigan-precision-rifle-series-april-2026/
LOCATION:23640 Featherstone Road\, Sturgis\, MI\, United States
GEO:41.842913;-85.478265
END:VEVENT
END:VCALENDAR