BEGIN:VCALENDAR
VERSION:2.0
PRODID:-//GunStuff TV - ECPv6.15.20//NONSGML v1.0//EN
CALSCALE:GREGORIAN
METHOD:PUBLISH
X-WR-CALNAME:GunStuff TV
X-ORIGINAL-URL:https://gunstuff.tv
X-WR-CALDESC:Events for GunStuff TV
REFRESH-INTERVAL;VALUE=DURATION:PT1H
X-Robots-Tag:noindex
X-PUBLISHED-TTL:PT1H
BEGIN:VTIMEZONE
TZID:UTC
BEGIN:STANDARD
TZOFFSETFROM:+0000
TZOFFSETTO:+0000
TZNAME:UTC
DTSTART:20250101T000000
END:STANDARD
END:VTIMEZONE
BEGIN:VEVENT
DTSTART;TZID=UTC:20260418T150000
DTEND;TZID=UTC:20260418T180000
DTSTAMP:20260424T073747
CREATED:20260414T200215Z
LAST-MODIFIED:20260414T200215Z
UID:10007686-1776524400-1776535200@gunstuff.tv
SUMMARY:GTS NRL22 April 2026 COF
DESCRIPTION:Positional shooting with a 22LR chambered rifle\, max range 100 yards.  Fun relaxed environment for sharpening skills as a precision rifle marksman.
URL:https://gunstuff.tv/event/gts-nrl22-april-2026-cof/
LOCATION:2330 Station Rd\, Casper WY\, United States
END:VEVENT
BEGIN:VEVENT
DTSTART;TZID=UTC:20260411T140000
DTEND;TZID=UTC:20260411T190000
DTSTAMP:20260424T073747
CREATED:20260407T195422Z
LAST-MODIFIED:20260407T195422Z
UID:10007089-1775916000-1775934000@gunstuff.tv
SUMMARY:GTS USPSA April 11 2026
DESCRIPTION:April 11 USPSA Match\n$10 for GTS Members or $15 for Non-members Pay at range\n4 stages including a classifier
URL:https://gunstuff.tv/event/gts-uspsa-april-11-2026/
LOCATION:2330 Station Rd\, Casper WY\, United States
END:VEVENT
END:VCALENDAR