BEGIN:VCALENDAR
VERSION:2.0
PRODID:-//GunStuff TV - ECPv6.15.20//NONSGML v1.0//EN
CALSCALE:GREGORIAN
METHOD:PUBLISH
X-WR-CALNAME:GunStuff TV
X-ORIGINAL-URL:https://gunstuff.tv
X-WR-CALDESC:Events for GunStuff TV
REFRESH-INTERVAL;VALUE=DURATION:PT1H
X-Robots-Tag:noindex
X-PUBLISHED-TTL:PT1H
BEGIN:VTIMEZONE
TZID:UTC
BEGIN:STANDARD
TZOFFSETFROM:+0000
TZOFFSETTO:+0000
TZNAME:UTC
DTSTART:20250101T000000
END:STANDARD
END:VTIMEZONE
BEGIN:VEVENT
DTSTART;TZID=UTC:20260425T140000
DTEND;TZID=UTC:20260425T190000
DTSTAMP:20260424T085730
CREATED:20260421T200328Z
LAST-MODIFIED:20260421T200328Z
UID:10008366-1777125600-1777143600@gunstuff.tv
SUMMARY:BLGC Steel Match - APR
DESCRIPTION:Shooting steel offers both new and experienced shooters the opportunity to be challenged while providing instant gratification of connecting with targets (CLANG).\nAt this time we are not a fully sanctioned USPSA Steel Challenge.  We will run three strings of ALL eight official steel stages. Of your timed scores the top two will be retained (posted below by match “DATE”).\nANY pistol caliber firearm is acceptable for the steel match.\nAs per our club policy\, the Steel Match is a “COLD” range – firearms are ONLY to be handled in safety area or under the command of a Range Safety Officer (RSO).\nYou must have an outside the waistband holster for your firearm\, and magazine(s) to run all strings or the capacity to fire all three strings\, you CANNOT leave the line to reload\, .22 must be in bag.\nFIRST TIME SHOOTERS ARE FREE\n$10.00 FIRST gun\, $5.00 other(s)\n$5.00 for the following:\nSET-UP (you are there within :15 of the conex doors opening 7:00 a.m.)\n17 under\nACTIVE DUTY Police & Military\nShooter’s safety meeting 8:30 a.m.\nScores can be found on Practiscore:\nGo to Practiscore website –  https://practiscore.com\nSelect View Scores\nEnter “BLGC Steel” in the search window\nSelect the date of the match you want to view\nSelect Combined to see all divisions
URL:https://gunstuff.tv/event/blgc-steel-match-apr/
LOCATION:23195 Co Rd 105\, Ramah CO\, United States
END:VEVENT
END:VCALENDAR