BEGIN:VCALENDAR
VERSION:2.0
PRODID:-//GunStuff TV - ECPv6.15.20//NONSGML v1.0//EN
CALSCALE:GREGORIAN
METHOD:PUBLISH
X-ORIGINAL-URL:https://gunstuff.tv
X-WR-CALDESC:Events for GunStuff TV
REFRESH-INTERVAL;VALUE=DURATION:PT1H
X-Robots-Tag:noindex
X-PUBLISHED-TTL:PT1H
BEGIN:VTIMEZONE
TZID:UTC
BEGIN:STANDARD
TZOFFSETFROM:+0000
TZOFFSETTO:+0000
TZNAME:UTC
DTSTART:20250101T000000
END:STANDARD
END:VTIMEZONE
BEGIN:VEVENT
DTSTART;TZID=UTC:20260425T150000
DTEND;TZID=UTC:20260425T220000
DTSTAMP:20260421T184812
CREATED:20260421T200333Z
LAST-MODIFIED:20260421T200333Z
UID:10008412-1777129200-1777154400@gunstuff.tv
SUMMARY:April 2026 LCHG Steel Challenge
DESCRIPTION:This is a 5 stage Steel Challenge match. Second gun is $10.00\nSet up is the morning of the match.
URL:https://gunstuff.tv/event/april-2026-lchg-steel-challenge/
LOCATION:230 Cattle Drive Road\, Boulder Montana\, United States
END:VEVENT
BEGIN:VEVENT
DTSTART;TZID=UTC:20260426T150000
DTEND;TZID=UTC:20260426T210000
DTSTAMP:20260421T184812
CREATED:20260421T200351Z
LAST-MODIFIED:20260421T200351Z
UID:10008575-1777215600-1777237200@gunstuff.tv
SUMMARY:LCHG Multigun - April
DESCRIPTION:LCHG Multigun\nCheck in at 8:00-8:45 Sunday morning\, shooting starts at 9:00 so show up early. New shooters welcome\, please check that you are a new shooter in your registration and show up before 8:30 Sunday morning so we can have a new shooter’s meeting and give you some extra help throughout the day. Match fee is $20. Set up Sunday morning from 7:00 to 9:00. If you help set up your match fee will be reduced to $5.  (Without setup help\, these matches are impossible\, so please come help setup.)\nRoundcount is 75 rifle\, 75 pistol\, 75 birdshot\, no slugs\n2-Gun (rifle/pistol) shooters welcome\, you’ll be shooting some  of the shotgun targets with pistol so plan on ~100 pistol with no misses. 2-Gun division will otherwise use Scoped Tactical division rules. Pistol Caliber Carbine can replace rifle in any division except Heavy Optics.\nIf you have any questions about anything please email me at mt.norman.tang@gmail.com and I’ll get back to you within 24 hours.
URL:https://gunstuff.tv/event/lchg-multigun-april/
LOCATION:230 Cattle Drive Road\, Boulder Montana\, United States
END:VEVENT
END:VCALENDAR