BEGIN:VCALENDAR
VERSION:2.0
PRODID:-//GunStuff TV - ECPv6.15.20//NONSGML v1.0//EN
CALSCALE:GREGORIAN
METHOD:PUBLISH
X-WR-CALNAME:GunStuff TV
X-ORIGINAL-URL:https://gunstuff.tv
X-WR-CALDESC:Events for GunStuff TV
REFRESH-INTERVAL;VALUE=DURATION:PT1H
X-Robots-Tag:noindex
X-PUBLISHED-TTL:PT1H
BEGIN:VTIMEZONE
TZID:UTC
BEGIN:STANDARD
TZOFFSETFROM:+0000
TZOFFSETTO:+0000
TZNAME:UTC
DTSTART:20250101T000000
END:STANDARD
END:VTIMEZONE
BEGIN:VEVENT
DTSTART;TZID=UTC:20260411T150000
DTEND;TZID=UTC:20260411T190000
DTSTAMP:20260424T104259
CREATED:20260407T195427Z
LAST-MODIFIED:20260407T195427Z
UID:10007135-1775919600-1775934000@gunstuff.tv
SUMMARY:Siouxland Practical Shooters Hawkeye USPSA Match 4-11-26
DESCRIPTION:Thank you for registering with Siouxland Practical Shooters.\nLocation:\nHawkeye Rifle and Pistol Club\n2240 Allison Ave\, Sioux City\, Iowa 51111\nYou must squad yourself using your personal management link.\nIf you are unfamiliar with USPSA rule’s please take some time to review them to give yourself a head start
URL:https://gunstuff.tv/event/siouxland-practical-shooters-hawkeye-uspsa-match-4-11-26/
LOCATION:2236 Allison Ave\, Sergeant Bluff Iowa\, United States
END:VEVENT
END:VCALENDAR