BEGIN:VCALENDAR
VERSION:2.0
PRODID:-//GunStuff TV - ECPv6.15.20//NONSGML v1.0//EN
CALSCALE:GREGORIAN
METHOD:PUBLISH
X-ORIGINAL-URL:https://gunstuff.tv
X-WR-CALDESC:Events for GunStuff TV
REFRESH-INTERVAL;VALUE=DURATION:PT1H
X-Robots-Tag:noindex
X-PUBLISHED-TTL:PT1H
BEGIN:VTIMEZONE
TZID:UTC
BEGIN:STANDARD
TZOFFSETFROM:+0000
TZOFFSETTO:+0000
TZNAME:UTC
DTSTART:20250101T000000
END:STANDARD
END:VTIMEZONE
BEGIN:VEVENT
DTSTART;TZID=UTC:20260418T120000
DTEND;TZID=UTC:20260419T000000
DTSTAMP:20260424T073702
CREATED:20260414T200231Z
LAST-MODIFIED:20260414T200231Z
UID:10007840-1776513600-1776556800@gunstuff.tv
SUMMARY:IPSC SHERBROOKE 18 AVRIL 2026 FINAL
DESCRIPTION:Bonjour à tous!\nvous êtes invités à prendre part aux compétitions d’IPSC saison 2025-2026 de la ligue IPSC Sherbrooke qui seront tenue au Club de Tir Lennoxville 22 rue Beattie Sherbrooke (Arrondissement Lennoxville) Qc J1M 0A1 819-564-9007\nLe coût : 40$\nLes relèves auront lieu à :8h\, 10h\, 12h45 et 15h.\nLes inscriptions débuteront le dimanche 20h avant sur practiscore.\nRechercher :  IPSC Sherbrooke\nVous devez vous présenter à l’inscription 30 minutes avant votre réservation pour assurer votre heure de tir.\nRO disponible pour le match envoyer moi un email à louisg@live.ca pour avoir un code d’inscription.\nPour se qualifier pour les trophées\, les 3 meilleurs pointages sur 5 matchs seront additionnés.\nMerci et au plaisir de se voir samedi!!\nLouis Gaudreau\nMD
URL:https://gunstuff.tv/event/ipsc-sherbrooke-18-avril-2026-final/
LOCATION:22 BEATTIE\, SHERBROOKE QC\, Canada
END:VEVENT
END:VCALENDAR