BEGIN:VCALENDAR
VERSION:2.0
PRODID:-//GunStuff TV - ECPv6.15.20//NONSGML v1.0//EN
CALSCALE:GREGORIAN
METHOD:PUBLISH
X-ORIGINAL-URL:https://gunstuff.tv
X-WR-CALDESC:Events for GunStuff TV
REFRESH-INTERVAL;VALUE=DURATION:PT1H
X-Robots-Tag:noindex
X-PUBLISHED-TTL:PT1H
BEGIN:VTIMEZONE
TZID:UTC
BEGIN:STANDARD
TZOFFSETFROM:+0000
TZOFFSETTO:+0000
TZNAME:UTC
DTSTART:20250101T000000
END:STANDARD
END:VTIMEZONE
BEGIN:VEVENT
DTSTART;TZID=UTC:20260425T140000
DTEND;TZID=UTC:20260425T173000
DTSTAMP:20260424T090249
CREATED:20260421T200335Z
LAST-MODIFIED:20260421T200335Z
UID:10008432-1777125600-1777138200@gunstuff.tv
SUMMARY:Cotton Gregg Memorial Steel Challenge 2026
DESCRIPTION:Cotton Gregg Memorial Scholarship Match\nSCSA Sanctioned Match\nScholarship funds are awarded to a Senior at Ropesville High School annually.\n5 SCSA stages\nRange opens 7 AM for set up crews\n8 AM registration opens\n9 AM Hammer Down\n$25 match fee\, additional donations welcome\nMultiple divisions available\, up to 3 per shooter
URL:https://gunstuff.tv/event/cotton-gregg-memorial-steel-challenge-2026/
LOCATION:2140 Intersection of FM 41 & Lubbock County Road\, Lubbock Texas\, United States
END:VEVENT
END:VCALENDAR