BEGIN:VCALENDAR
VERSION:2.0
PRODID:-//GunStuff TV - ECPv6.15.20//NONSGML v1.0//EN
CALSCALE:GREGORIAN
METHOD:PUBLISH
X-WR-CALNAME:GunStuff TV
X-ORIGINAL-URL:https://gunstuff.tv
X-WR-CALDESC:Events for GunStuff TV
REFRESH-INTERVAL;VALUE=DURATION:PT1H
X-Robots-Tag:noindex
X-PUBLISHED-TTL:PT1H
BEGIN:VTIMEZONE
TZID:UTC
BEGIN:STANDARD
TZOFFSETFROM:+0000
TZOFFSETTO:+0000
TZNAME:UTC
DTSTART:20250101T000000
END:STANDARD
END:VTIMEZONE
BEGIN:VEVENT
DTSTART;TZID=UTC:20260411T130000
DTEND;TZID=UTC:20260411T180000
DTSTAMP:20260424T104609
CREATED:20260407T195431Z
LAST-MODIFIED:20260407T195431Z
UID:10007172-1775912400-1775930400@gunstuff.tv
SUMMARY:WTPS USPSA April 11th
DESCRIPTION:Come shoot with us in our monthly USPSA match!\n!!!PLEASE NOTE WE ARE NOW ON SUMMER HOURS FOR OUR USPSA MATCHES. SETUP BEGINS AT 7:30\, REGISTRATION AT 8\, HAMMER DOWN AT 9!!!\nApproximately 150 rounds.\n5 field stages with possible classifiers.\n$20 match fee (We only accept cash payments currently)\nWe will begin stage set up by 7:30 am. All help welcome to get stages prepared for the match sooner.\nCheck-in begins after 8am\nHammer down after 9am pending completion of match set up.\nWe operate as a cold range\, please do not handle your firearms outside of the designated safe areas.
URL:https://gunstuff.tv/event/wtps-uspsa-april-11th/
LOCATION:2140 Intersection of FM 41 & Lubbock County Road\, Lubbock Texas\, United States
END:VEVENT
END:VCALENDAR