BEGIN:VCALENDAR
VERSION:2.0
PRODID:-//GunStuff TV - ECPv6.15.20//NONSGML v1.0//EN
CALSCALE:GREGORIAN
METHOD:PUBLISH
X-ORIGINAL-URL:https://gunstuff.tv
X-WR-CALDESC:Events for GunStuff TV
REFRESH-INTERVAL;VALUE=DURATION:PT1H
X-Robots-Tag:noindex
X-PUBLISHED-TTL:PT1H
BEGIN:VTIMEZONE
TZID:UTC
BEGIN:STANDARD
TZOFFSETFROM:+0000
TZOFFSETTO:+0000
TZNAME:UTC
DTSTART:20250101T000000
END:STANDARD
END:VTIMEZONE
BEGIN:VEVENT
DTSTART;TZID=UTC:20260422T220000
DTEND;TZID=UTC:20260423T000000
DTSTAMP:20260424T113952
CREATED:20260421T200305Z
LAST-MODIFIED:20260421T200305Z
UID:10008163-1776895200-1776902400@gunstuff.tv
SUMMARY:Gun Craft Steel Challenge (SCSA400) - April 22 - 4th Wednesday Steel Challenge
DESCRIPTION:** YOU MUST BE AT THE RANGE NO LATER THAN 5:40 **\n– 4 Stages of Steel Challenge\n– NO DAY OF MATCH WALK IN REGISTRATION\n– Second guns allowed…\n ……Must sign up here prior to close of registration\n ……Please put “Z-” in front of your LAST NAME\n ……Second gun must be PCC or Rimfire\n– MATCH IS LIMITED TO 32 “GUNS”\n– Match Fee: $15 per gun\n   ** CASH ONLY **\n——————————————————————————————–\n5:00pm – Match Check In Opens\n5:15pm – New Shooter Orientation\n5:45pm – MATCH CHECK IN CLOSES (if not checked in\, you will be deleted at this time)\n5:45pm – Safety Briefing\n6:00pm – Stage Setup / Match Starts\n——————————————————————————————–\nMatch Director: Tim Jones / Tom Larson\nPhone: 813-645-3828\nTom Larson: 863-860-6404\neMail: scsa400@gmail
URL:https://gunstuff.tv/event/gun-craft-steel-challenge-scsa400-april-22-4th-wednesday-steel-challenge/
LOCATION:2102 24th St. SE\, Ruskin\, FL\, United States
GEO:27.69913;-82.45263
END:VEVENT
BEGIN:VEVENT
DTSTART;TZID=UTC:20260408T220000
DTEND;TZID=UTC:20260409T000000
DTSTAMP:20260424T113952
CREATED:20260407T195407Z
LAST-MODIFIED:20260407T195407Z
UID:10006948-1775685600-1775692800@gunstuff.tv
SUMMARY:Gun Craft Steel Challenge (SCSA400) - April 8 - 2nd Wednesday Steel Challenge
DESCRIPTION:** YOU MUST BE AT THE RANGE NO LATER THAN 5:40 **\n– 4 Stages of Steel Challenge\n– NO DAY OF MATCH WALK IN REGISTRATION\n– Second guns allowed…\n ……Must sign up here prior to close of registration\n ……Please put “Z-” in front of your LAST NAME\n ……Second gun must be PCC or Rimfire\n– MATCH IS LIMITED TO 32 “GUNS”\n– Match Fee: $15 per gun\n   ** CASH ONLY **\n——————————————————————————————–\n5:00pm – Match Check In Opens\n5:15pm – New Shooter Orientation\n5:45pm – MATCH CHECK IN CLOSES (if not checked in\, you will be deleted at this time)\n5:45pm – Safety Briefing\n6:00pm – Stage Setup / Match Starts\n——————————————————————————————–\nMatch Director: Tim Jones / Tom Larson\nPhone: 813-645-3828\nTom Larson: 863-860-6404\neMail: scsa400@gmail
URL:https://gunstuff.tv/event/gun-craft-steel-challenge-scsa400-april-8-2nd-wednesday-steel-challenge/
LOCATION:2102 24th St. SE\, Ruskin\, FL\, United States
GEO:27.69913;-82.45263
END:VEVENT
END:VCALENDAR