BEGIN:VCALENDAR
VERSION:2.0
PRODID:-//GunStuff TV - ECPv6.15.20//NONSGML v1.0//EN
CALSCALE:GREGORIAN
METHOD:PUBLISH
X-WR-CALNAME:GunStuff TV
X-ORIGINAL-URL:https://gunstuff.tv
X-WR-CALDESC:Events for GunStuff TV
REFRESH-INTERVAL;VALUE=DURATION:PT1H
X-Robots-Tag:noindex
X-PUBLISHED-TTL:PT1H
BEGIN:VTIMEZONE
TZID:UTC
BEGIN:STANDARD
TZOFFSETFROM:+0000
TZOFFSETTO:+0000
TZNAME:UTC
DTSTART:20250101T000000
END:STANDARD
END:VTIMEZONE
BEGIN:VEVENT
DTSTART;TZID=UTC:20260425T123000
DTEND;TZID=UTC:20260425T183000
DTSTAMP:20260424T083548
CREATED:20260421T200320Z
LAST-MODIFIED:20260421T200320Z
UID:10008289-1777120200-1777141800@gunstuff.tv
SUMMARY:TSSA: Tactical Athlete Training (TAT)
DESCRIPTION:Match Name: TSSA: TAT Series (Tactical Athlete Training) – Ruskin\, FL\nPlatform: TSSA (Tactical Shooting Sports Association)\nEvent Type: Training Series\nTRAIN. PRACTICE. EVOLVE.\n1.0 Operational Overview\nTAT matches are competitive training environments designed to test yourself and your gear.\nWhile these matches provide a learning atmosphere\, they deliver a highly dynamic workout and range experience unlike any other. This is your opportunity for loadout validation—shaking down your kit and refining movement efficiency under physical stress without the pressure of a major competition. The focus is on personal benchmarking: you vs. the work.\nStage Design: Competitors will engage mock stages that mimic popular tier-one matches such as The Tactical Games and The Patriot Games.\nThe “Real Deal” Prep: Participants will be able to test run official RLS (Run | Lift | Shoot) Classifier Stages\, providing a standardized metric to gauge readiness for upcoming ranked Series matches.\nActive Feedback: Unlike major matches where coaching is prohibited during a run\, TAT matches allow for instructor intervention and post-run feedback to correct technical deficiencies immediately. Instructors are on standby to provide feedback if requested\, ensuring a self-paced environment for those who prefer to train without interruption.\n2.0 Division & Gear Guidelines\nAttendees should register under the division that matches the kit they intend to test. This ensures you are grouped with athletes of similar loadouts for pacing.\nTactical (Vested)\nTactical Elite: Full Kit (Plate Carrier) + Heavy Physical Load\nTactical Intermediate: Full Kit (Plate Carrier) + Standard Physical Load\nTactical Beginner: Full Kit (Plate Carrier) + Reduced Physical Load\nSlick (Belt Only/No PC) *Chest Rigs Allowed*\nSlick Elite: Belt Only + Heavy Physical Load\nSlick Intermediate: Belt Only + Standard Physical Load\nSlick Beginner: Belt Only + Reduced Physical Load\nRuck (Highly Recommended): If you own a ruck\, bring it. Aim for 25–35 lbs dry weight. We will incorporate load carriage into the training blocks.\nRifle: AR-15 platform (or similar) with a Sling (Required).\nPistol: Semi-automatic service pistol.\nHolster: Must be a sturdy Retention Holster (Level 1 friction minimum\, active retention highly recommended). No fabric/nylon universal holsters.\nBelt: Sturdy gun belt with magazine carriers.\nMagazines: Minimum 3 magazines for Rifle / 3 magazines for Pistol.\nEye & Ear Protection: Mandatory for all participants and spectators.\n3.0 Logistics & Schedule\nLOCATION Gun Craft 2102 24th St SE Ruskin\, FL 33570\nTIMELINE\n08:30 AM: Check-In / Gear Up\n09:00 AM: Safety Brief & Training Overview\n09:15 AM: Range Hot / First Drills Commenced\nREGISTRATION FEE\nCost: $50.00\nPrimary Payment: Secure payment via Practiscore (Stripe) is preferred at registration.\nWalk-ons: We accept Cash or Card in person at the range (subject to slot availability).\n4.0 Resource Requirements (Ammo)\nCompetitors are responsible for their own ammunition.\nPistol: 150 Rounds (Minimum)\nRifle: 120 Rounds (Minimum)\nTraining Note: We recommend bringing extra ammunition beyond the minimums. If time permits\, you may have the opportunity to get extra reps on specific drills or classifiers.\nFITNESS SAFETY: We will be pushing physical limits. Please hydrate the night before. If you are new to training in a plate carrier\, let the instructors know during the brief so we can scale the volume appropriately. Bring extra hydration and snacks; water and a covered pavilion with fans will be provided.\nMEDIA COVERAGE: A complimentary photo package is included for all attendees. Professional\, watermarked action photos will be made available to all competitors after the match for download and social sharing.\nEmail: Jeremy@tssausa.com\nText: 239-851-2926
URL:https://gunstuff.tv/event/tssa-tactical-athlete-training-tat/
LOCATION:2102 24th St SE\, Ruskin\, FL\, United States
GEO:27.69913;-82.45263
END:VEVENT
END:VCALENDAR