BEGIN:VCALENDAR
VERSION:2.0
PRODID:-//GunStuff TV - ECPv6.15.20//NONSGML v1.0//EN
CALSCALE:GREGORIAN
METHOD:PUBLISH
X-ORIGINAL-URL:https://gunstuff.tv
X-WR-CALDESC:Events for GunStuff TV
REFRESH-INTERVAL;VALUE=DURATION:PT1H
X-Robots-Tag:noindex
X-PUBLISHED-TTL:PT1H
BEGIN:VTIMEZONE
TZID:UTC
BEGIN:STANDARD
TZOFFSETFROM:+0000
TZOFFSETTO:+0000
TZNAME:UTC
DTSTART:20250101T000000
END:STANDARD
END:VTIMEZONE
BEGIN:VEVENT
DTSTART;TZID=UTC:20260421T233000
DTEND;TZID=UTC:20260422T013000
DTSTAMP:20260422T084011
CREATED:20260421T200259Z
LAST-MODIFIED:20260421T200259Z
UID:10008107-1776814200-1776821400@gunstuff.tv
SUMMARY:Skeeters No Shoot Gang April 21 Hit Factor
DESCRIPTION:Welcome to Skeeter’s Gun Range weekly FUN competition matches.  These will be Hit Factor based competitions.  For our USPSA Sanctioned Matches – our Club Name is SKEETER’S NO SHOOT GANG.   FUN is the goal while you shoot competition stages to help you learn to shoot GOODER… GET IT?  We have two full bays and will run two different stages in each bay.  There will be two squads giving you FOUR full stages to shoot.  Price is $20 per person paid at the range when you arrive.  Weeks that are USPSA Sanctioned Matches will be designated in the match name as USPSA SANCTIONED.  You Register online at https://practiscore.com/clubs/skeeters.\nIt’s easy\, we welcome NEW shooters and EXPERIENCED shooters alike.  Come out and Learn more about competition shooting.  These matches are run by Gary Ashorn of No Shoot Video Productions and run at\nSkeeters Gun Range owned and managed by Randy Dillman.\nStage setup will begin at 5:30pm if you want to come help.  New Shooters to Skeeters Gun Range Matches need to come at 6pm for a brief safety orientation.  The match safety meeting for all attendees will be at 6:15pm.\nWeapons cannot be handled in the lobby.  Weapons cannot be removed from their holster or bag once on the range except under the direction of the Safety Officer\, S.O. for the match.\nContact SKEETERS GUN RANGE for more information.\nskeetersrange@yahoo.com
URL:https://gunstuff.tv/event/skeeters-no-shoot-gang-april-21-hit-factor/
LOCATION:2100 F.M. 2004\, Clute\, TX\, United States
GEO:29.056079;-95.40994
END:VEVENT
BEGIN:VEVENT
DTSTART;TZID=UTC:20260407T233000
DTEND;TZID=UTC:20260408T013000
DTSTAMP:20260422T084011
CREATED:20260407T195401Z
LAST-MODIFIED:20260407T195401Z
UID:10006902-1775604600-1775611800@gunstuff.tv
SUMMARY:Skeeters No Shoot Gang April 7 Hit Factor
DESCRIPTION:Welcome to Skeeter’s Gun Range weekly FUN competition matches.  These will be Hit Factor based competitions.  For our USPSA Sanctioned Matches – our Club Name is SKEETER’S NO SHOOT GANG.   FUN is the goal while you shoot competition stages to help you learn to shoot GOODER… GET IT?  We have two full bays and will run two different stages in each bay.  There will be two squads giving you FOUR full stages to shoot.  Price is $20 per person paid at the range when you arrive.  Weeks that are USPSA Sanctioned Matches will be designated in the match name as USPSA SANCTIONED.  You Register online at https://practiscore.com/clubs/skeeters.\nIt’s easy\, we welcome NEW shooters and EXPERIENCED shooters alike.  Come out and Learn more about competition shooting.  These matches are run by Gary Ashorn of No Shoot Video Productions and run at\nSkeeters Gun Range owned and managed by Randy Dillman.\nStage setup will begin at 5:30pm if you want to come help.  New Shooters to Skeeters Gun Range Matches need to come at 6pm for a brief safety orientation.  The match safety meeting for all attendees will be at 6:15pm.\nWeapons cannot be handled in the lobby.  Weapons cannot be removed from their holster or bag once on the range except under the direction of the Safety Officer\, S.O. for the match.\nContact SKEETERS GUN RANGE for more information.\nskeetersrange@yahoo.com
URL:https://gunstuff.tv/event/skeeters-no-shoot-gang-april-7-hit-factor/
LOCATION:2100 F.M. 2004\, Clute\, TX\, United States
GEO:29.056079;-95.40994
END:VEVENT
END:VCALENDAR