BEGIN:VCALENDAR
VERSION:2.0
PRODID:-//GunStuff TV - ECPv6.15.20//NONSGML v1.0//EN
CALSCALE:GREGORIAN
METHOD:PUBLISH
X-WR-CALNAME:GunStuff TV
X-ORIGINAL-URL:https://gunstuff.tv
X-WR-CALDESC:Events for GunStuff TV
REFRESH-INTERVAL;VALUE=DURATION:PT1H
X-Robots-Tag:noindex
X-PUBLISHED-TTL:PT1H
BEGIN:VTIMEZONE
TZID:UTC
BEGIN:STANDARD
TZOFFSETFROM:+0000
TZOFFSETTO:+0000
TZNAME:UTC
DTSTART:20250101T000000
END:STANDARD
END:VTIMEZONE
BEGIN:VEVENT
DTSTART;TZID=UTC:20260418T140000
DTEND;TZID=UTC:20260418T180000
DTSTAMP:20260424T074033
CREATED:20260414T200227Z
LAST-MODIFIED:20260414T200227Z
UID:10007797-1776520800-1776535200@gunstuff.tv
SUMMARY:Pinetucky USPSA  18 Apr 2026
DESCRIPTION:Practical Shooting measures the shooter’s ability to shoot rapidly and accurately through obstacle-laden courses. The shooter moves\, negotiates\, runs\, and speed reloads through the stage as fast as their skill will allow. If this fast-paced shooting sport sounds like fun\, come out and give it a try.  Detailed Match Rules can be found at http://uspsa.org.\nSIGN-IN:\n09:15 – 09:45 Check-in\n09:30 New Shooter Safety Briefing\n10:00 Hammer Down\nPlease check-in before 09:45 or risk losing your squad spot.  At 09:45 we remove those who have not checked-in\, so that we can balance the squads.  Anyone that checks-in after 09:45 will be squadded where needed.\nIf you have not shot a USPSA match before\, please arrive early to check-in and make the 09:30 safety briefing.  A Range Officer will brief you on General Match & Safety rules.  Since this is a Level 1 match\, coaching through the courses of fire is allowed if requested.\nWe have had a lot of people sign up and neither show up nor withdraw.  Please make sure to sign up only if you intend to come and withdraw if you find you cannot make it.\nSpectators are more than welcome to watch and encouraged to ask questions if they intend to shoot a match in future\, but please wear eye and ear protection.\nMATCH FEES & DISCOUNTS:\n$15 for Pinetucky Gun Club Members\n$20 for non-Club members\n$5 discount for Current NROI-certified Range Officers  (To receive this discount\, Pinetucky USPSA has the option to squad you where needed)\n$0 – Juniors shoot for Free\nCredit Card Payments:  Please pay your match fee at the Clubhouse and present your receipt at check-in.  There will be an added 4% CC fee at payment.\nMATCH CANCELLATION:\nMatch cancellation notifications will be thru email via Practiscore and FB on our CSRA Rifle and Pistol page\,\nRELOADERS:\nPlease do not pick up brass during the match. All brass collection will be done after all of the stages have been completely torn down and returned to storage. We need everyone’s help during the match resetting the stages so we can keep things moving at a steady pace.\nCOLD RANGE:\nPinetucky’s Competition Bays is a Cold Range\, so please leave your loaded CCW in your vehicle. Show up with your unloaded centerfire pistol or pistol-caliber carbine in an enclosed case and ask a match official where the safe area is so you can gear up.  Overall match round count is usually between 100 and 150 rounds.
URL:https://gunstuff.tv/event/pinetucky-uspsa-18-apr-2026/
LOCATION:2096 Greenland Road\, Blythe Georgia\, United States
END:VEVENT
END:VCALENDAR