BEGIN:VCALENDAR
VERSION:2.0
PRODID:-//GunStuff TV - ECPv6.15.20//NONSGML v1.0//EN
CALSCALE:GREGORIAN
METHOD:PUBLISH
X-WR-CALNAME:GunStuff TV
X-ORIGINAL-URL:https://gunstuff.tv
X-WR-CALDESC:Events for GunStuff TV
REFRESH-INTERVAL;VALUE=DURATION:PT1H
X-Robots-Tag:noindex
X-PUBLISHED-TTL:PT1H
BEGIN:VTIMEZONE
TZID:UTC
BEGIN:STANDARD
TZOFFSETFROM:+0000
TZOFFSETTO:+0000
TZNAME:UTC
DTSTART:20250101T000000
END:STANDARD
END:VTIMEZONE
BEGIN:VEVENT
DTSTART;TZID=UTC:20260418T130000
DTEND;TZID=UTC:20260418T190000
DTSTAMP:20260424T073343
CREATED:20260414T200210Z
LAST-MODIFIED:20260414T200210Z
UID:10007658-1776517200-1776538800@gunstuff.tv
SUMMARY:Ashland Lake Gun Club - IDPA Spring opener Match 2026
DESCRIPTION:When you register online – please remember to indicate if you wish to be in squad in 1\, 2\, 4\, 5 or 6. Each squad will be limited to 15 shooters and each match to 75 maximum not including Safety Officers (SO).\nWalk in’s will only be considered if we have not reached out maximum number of shooters.\nSign in on match day will start at 8:30am and shooters meeting will be held at 8:45am. Shooting to start at 9:30am or after the shooters meeting.\nThe Safety Officers will follow the squads and will NOT be assigned to a specific Bay.\nNOTE:\nBlackhawk Serpa holsters are NOT PERMITTED for any ALGC event.\nStarting in 2020 every person entering the Ashland Lake Gun Club must fill out and sign a waiver.  This needs to be done only once for the year.  We will have the forms available when you sign-up in the Pavilion the day of the match. Thank you for your cooperation.
URL:https://gunstuff.tv/event/ashland-lake-gun-club-idpa-spring-opener-match-2026/
LOCATION:206 U.S. 42 West\, South Charleston\, OH\, United States
GEO:39.786727;-83.708535
END:VEVENT
END:VCALENDAR