BEGIN:VCALENDAR
VERSION:2.0
PRODID:-//GunStuff TV - ECPv6.15.20//NONSGML v1.0//EN
CALSCALE:GREGORIAN
METHOD:PUBLISH
X-ORIGINAL-URL:https://gunstuff.tv
X-WR-CALDESC:Events for GunStuff TV
REFRESH-INTERVAL;VALUE=DURATION:PT1H
X-Robots-Tag:noindex
X-PUBLISHED-TTL:PT1H
BEGIN:VTIMEZONE
TZID:UTC
BEGIN:STANDARD
TZOFFSETFROM:+0000
TZOFFSETTO:+0000
TZNAME:UTC
DTSTART:20250101T000000
END:STANDARD
END:VTIMEZONE
BEGIN:VEVENT
DTSTART;TZID=UTC:20260418T130000
DTEND;TZID=UTC:20260418T190000
DTSTAMP:20260424T073906
CREATED:20260414T200226Z
LAST-MODIFIED:20260414T200226Z
UID:10007790-1776517200-1776538800@gunstuff.tv
SUMMARY:ORSA USPSA April 2026
DESCRIPTION:Monthly Level 1 USPSA match at Oak Ridge Sportsman Association. Pistol range entrance located near 201 Hermitage Blvd\, Oak Ridge\, TN 37830. Normal round count is 150-170 in seven or eight stages depending on attendance. Please arrive by 8:00am to complete registration and payment. Match fee $20 ($15 for ORSA members)\nUSPSA level I match\, with the following divisions:\nLimited 10\, Limited\, Limited Optics\, Open\, Production\, Revolver\, Single Stack\, Carry Optics\, Pistol Caliber Carbine
URL:https://gunstuff.tv/event/orsa-uspsa-april-2026/
LOCATION:201 Hermitage\, Oak Ridge TN\, United States
END:VEVENT
END:VCALENDAR