BEGIN:VCALENDAR
VERSION:2.0
PRODID:-//GunStuff TV - ECPv6.15.20//NONSGML v1.0//EN
CALSCALE:GREGORIAN
METHOD:PUBLISH
X-ORIGINAL-URL:https://gunstuff.tv
X-WR-CALDESC:Events for GunStuff TV
REFRESH-INTERVAL;VALUE=DURATION:PT1H
X-Robots-Tag:noindex
X-PUBLISHED-TTL:PT1H
BEGIN:VTIMEZONE
TZID:UTC
BEGIN:STANDARD
TZOFFSETFROM:+0000
TZOFFSETTO:+0000
TZNAME:UTC
DTSTART:20250101T000000
END:STANDARD
END:VTIMEZONE
BEGIN:VEVENT
DTSTART;TZID=UTC:20260425T140000
DTEND;TZID=UTC:20260425T180000
DTSTAMP:20260424T085537
CREATED:20260421T200320Z
LAST-MODIFIED:20260421T200320Z
UID:10008290-1777125600-1777140000@gunstuff.tv
SUMMARY:Chattanooga Practical Shooters - Galactic Pistol Alliance - GPA- Saturday April 25th 2026
DESCRIPTION:Galactic Pistol Alliance is a dynamic\, fast-paced Points Down shooting sport launched in late 2022\, designed to be safe\, challenging\, fun and easy to understand. As they say\, “it is half the rules & twice the fun” of similar\, defensive shooting sports.\nMatch  fees are $20.00\nClub members $15.00\n9:00 am Eastern Time\nRegistration/Check-in at Clubhouse opens.\n-Registration for NEW SHOOTERS will close at 9:25 am. We will prioritize new shooter registration to ensure you get to BAY 3 for the mandatory briefing.\n-Registration for seasoned shooters will close at 9:45 am.\n9:30 am – NEW SHOOTERS BRIEFING MANDATORY!!!!!!!\n                 Briefing on BAY 3\n– arrive early to allow time for registration so you can be on time for briefing! If you miss the briefing you will not shoot!\n9:30 am – SAFETY OFFICERS (those running tablets and timers)\n               S.O. walk through starting on BAY 1\n– The “S.O. Walk Through” is for squad Safety Officers ONLY. After the walk through is complete\, if your squad has a rule/procedure question(s) that the S.O. can’t answer\, they will reach out to the Match Directors for clarification. This is necessary to keep the match on schedule.\n10:00 am ALL SHOOTERS BRIEFING\n                All Shooters Briefing BAY 3\n– Match announcements & special instructions\, Squad reassignment (if needed)\, supply disbursement.\nFIRST SHOTS – after the All Shooters Briefing squads will gather on their assigned Bays\, S.O.’s will perform a roll call and then the match begins.\nAssistance completing the set up is always appreciated and  8:30AM arrival is good for that.\nAs a reminder\,  no variant of the Sig 320 platform will be allowed in any match based on general safety concerns. This is not an isolated reaction and is becoming more widespread as issues of AD’s continue to surface.\nCheck out galacticpistolalliance.com for more info
URL:https://gunstuff.tv/event/chattanooga-practical-shooters-galactic-pistol-alliance-gpa-saturday-april-25th-2026/
LOCATION:2009 Mowbray Pike\, 194 Sciota Rd\, Elizabethton\, TN\, United States
GEO:36.239345;-82.269893
X-APPLE-STRUCTURED-LOCATION;VALUE=URI;X-ADDRESS=2009 Mowbray Pike 194 Sciota Rd Elizabethton TN United States;X-APPLE-RADIUS=500;X-TITLE=194 Sciota Rd:geo:-82.269893,36.239345
END:VEVENT
END:VCALENDAR