BEGIN:VCALENDAR
VERSION:2.0
PRODID:-//GunStuff TV - ECPv6.15.20//NONSGML v1.0//EN
CALSCALE:GREGORIAN
METHOD:PUBLISH
X-ORIGINAL-URL:https://gunstuff.tv
X-WR-CALDESC:Events for GunStuff TV
REFRESH-INTERVAL;VALUE=DURATION:PT1H
X-Robots-Tag:noindex
X-PUBLISHED-TTL:PT1H
BEGIN:VTIMEZONE
TZID:UTC
BEGIN:STANDARD
TZOFFSETFROM:+0000
TZOFFSETTO:+0000
TZNAME:UTC
DTSTART:20250101T000000
END:STANDARD
END:VTIMEZONE
BEGIN:VEVENT
DTSTART;TZID=UTC:20260411T140000
DTEND;TZID=UTC:20260411T180000
DTSTAMP:20260424T104542
CREATED:20260407T195423Z
LAST-MODIFIED:20260407T195423Z
UID:10007096-1775916000-1775930400@gunstuff.tv
SUMMARY:Henry County Gun Club Steel Challenge match
DESCRIPTION:5 stages
URL:https://gunstuff.tv/event/henry-county-gun-club-steel-challenge-match/
LOCATION:1995 Goldston Springs Rd.\, Puryear TN\, United States
END:VEVENT
END:VCALENDAR