BEGIN:VCALENDAR
VERSION:2.0
PRODID:-//GunStuff TV - ECPv6.15.20//NONSGML v1.0//EN
CALSCALE:GREGORIAN
METHOD:PUBLISH
X-WR-CALNAME:GunStuff TV
X-ORIGINAL-URL:https://gunstuff.tv
X-WR-CALDESC:Events for GunStuff TV
REFRESH-INTERVAL;VALUE=DURATION:PT1H
X-Robots-Tag:noindex
X-PUBLISHED-TTL:PT1H
BEGIN:VTIMEZONE
TZID:UTC
BEGIN:STANDARD
TZOFFSETFROM:+0000
TZOFFSETTO:+0000
TZNAME:UTC
DTSTART:20250101T000000
END:STANDARD
END:VTIMEZONE
BEGIN:VEVENT
DTSTART;TZID=UTC:20260425T140000
DTEND;TZID=UTC:20260425T190000
DTSTAMP:20260424T085405
CREATED:20260421T200318Z
LAST-MODIFIED:20260421T200318Z
UID:10008277-1777125600-1777143600@gunstuff.tv
SUMMARY:ORSA Multigun (3gun\, 2gun\, 1gun) - April 2026
DESCRIPTION:The easiest way to find the correct facility entrance is to use Google Maps and head to “ORSA Action Pistol Entrance”.\n###\n# Rules and divisions\n###\nOur match runs under UML Multigun v2.3 rules and equipment divisions\, with a few small changes:\n– A “TacOps Classic” division for y’all still competing without pistol optics\n– A “1 gun pistol” division for those really wanting to maximize pistol fun\nPlease see the match documents for the UML rules and for an overview of what each division means. If you’re unsure\, just bring what you have and we’ll get you sorted at check-in. If you’re a new shooter\, please arrive close to 9:30\, leave your guns in the car\, and come talk to us at registration about range safety rules.\n###\n# Fees\n###\nMatch fees are $15 for ORSA members\, $20 for public\, and $5 for juniors. We can only accept cash.\n###\n# Safety rules\n###\nHandguns may be carried unloaded and holstered (as in most other sports). Long guns must be unloaded with a visible chamber flag\, and carried in a bag or with the muzzle always pointing up or down.\n###\n# Everything else\n###\nRound counts will depend on your equipment choices\, but anticipate roughly 75rds shotgun\, 75rds pistol\, 75rds rifle. You CAN NOT use any penetrator rounds like M855/”green tip” or similar. Slugs or slings will not be required without an announcement before the match.\nWe will usually have 5 stages\, depending on how big registration gets by the prior weekend. You will have to shoot out to 100-125yd with rifle/PCC\, so make sure you know your holds.\n###\n# Late arrivals\n###\nIf you don’t show up at registration by 9:45\, we will be unhappy with you.
URL:https://gunstuff.tv/event/orsa-multigun-3gun-2gun-1gun-april-2026/
LOCATION:199 Hermitage Blvd\, Oak Ridge\, TN\, United States
GEO:36.019381;-84.243175
END:VEVENT
END:VCALENDAR