BEGIN:VCALENDAR
VERSION:2.0
PRODID:-//GunStuff TV - ECPv6.15.20//NONSGML v1.0//EN
CALSCALE:GREGORIAN
METHOD:PUBLISH
X-WR-CALNAME:GunStuff TV
X-ORIGINAL-URL:https://gunstuff.tv
X-WR-CALDESC:Events for GunStuff TV
REFRESH-INTERVAL;VALUE=DURATION:PT1H
X-Robots-Tag:noindex
X-PUBLISHED-TTL:PT1H
BEGIN:VTIMEZONE
TZID:UTC
BEGIN:STANDARD
TZOFFSETFROM:+0000
TZOFFSETTO:+0000
TZNAME:UTC
DTSTART:20250101T000000
END:STANDARD
END:VTIMEZONE
BEGIN:VEVENT
DTSTART;TZID=UTC:20260411T160000
DTEND;TZID=UTC:20260411T200000
DTSTAMP:20260424T132517
CREATED:20260407T195422Z
LAST-MODIFIED:20260407T195422Z
UID:10007086-1775923200-1775937600@gunstuff.tv
SUMMARY:San Juan Shooters
DESCRIPTION:This is a special classifier match with 4 classifier stages and 1field course. The match is at San Juan Shooting Range. The cost of the match is $25.00 and starts at 10:00 am. Stop by the office the day of the match and pay your match fees.
URL:https://gunstuff.tv/event/san-juan-shooters/
LOCATION:19878 Dave Wood Rd\, Montrose Colorado\, United States
END:VEVENT
END:VCALENDAR