BEGIN:VCALENDAR
VERSION:2.0
PRODID:-//GunStuff TV - ECPv6.15.20//NONSGML v1.0//EN
CALSCALE:GREGORIAN
METHOD:PUBLISH
X-ORIGINAL-URL:https://gunstuff.tv
X-WR-CALDESC:Events for GunStuff TV
REFRESH-INTERVAL;VALUE=DURATION:PT1H
X-Robots-Tag:noindex
X-PUBLISHED-TTL:PT1H
BEGIN:VTIMEZONE
TZID:UTC
BEGIN:STANDARD
TZOFFSETFROM:+0000
TZOFFSETTO:+0000
TZNAME:UTC
DTSTART:20250101T000000
END:STANDARD
END:VTIMEZONE
BEGIN:VEVENT
DTSTART;TZID=UTC:20260425T150000
DTEND;TZID=UTC:20260425T200000
DTSTAMP:20260424T090204
CREATED:20260421T200334Z
LAST-MODIFIED:20260421T200334Z
UID:10008427-1777129200-1777147200@gunstuff.tv
SUMMARY:SCAPSA PCSL Points Series 2 Gun Match - Sponsored by AT3 Tactical
DESCRIPTION:St. Cloud Area Practical Shooter’s Association (www.SHOOTSCAPSA.com) and AT3 Tactical present the 2026 MN PCSL 2 Gun Points Series Match.\n5 stages\, match Fee is $30.00 (includes lunch)\, Junior (under 16) match fee is $20.00. Registration opens at 9:30\, shooters meeting at 10:00\, match starts immediately after.\nRecommended round count is 150 rifle\, 150 pistol\, no steel core ammunition is allowed. Match will be run under current PCSL ruleset\, hit factor scoring.\nContact shootscapsa@gmail.com or 320-204-6568 with questions.
URL:https://gunstuff.tv/event/scapsa-pcsl-points-series-2-gun-match-sponsored-by-at3-tactical/
LOCATION:19505 Estes Road\, Clearwater Minnesota\, United States
END:VEVENT
END:VCALENDAR