BEGIN:VCALENDAR
VERSION:2.0
PRODID:-//GunStuff TV - ECPv6.15.20//NONSGML v1.0//EN
CALSCALE:GREGORIAN
METHOD:PUBLISH
X-WR-CALNAME:GunStuff TV
X-ORIGINAL-URL:https://gunstuff.tv
X-WR-CALDESC:Events for GunStuff TV
REFRESH-INTERVAL;VALUE=DURATION:PT1H
X-Robots-Tag:noindex
X-PUBLISHED-TTL:PT1H
BEGIN:VTIMEZONE
TZID:UTC
BEGIN:STANDARD
TZOFFSETFROM:+0000
TZOFFSETTO:+0000
TZNAME:UTC
DTSTART:20250101T000000
END:STANDARD
END:VTIMEZONE
BEGIN:VEVENT
DTSTART;TZID=UTC:20260424T220000
DTEND;TZID=UTC:20260425T000000
DTSTAMP:20260422T000845
CREATED:20260421T200313Z
LAST-MODIFIED:20260421T200313Z
UID:10008239-1777068000-1777075200@gunstuff.tv
SUMMARY:Wincrest Sportsman Friday April 24th
DESCRIPTION:ALL PARTICIPANTS MUST HAVE COMPLETED ACTION PISTOL SHOOTING SAFETY TRAINING AND LIVE-FIRE CERTIFICATION PRIOR TO REGISTERING IN THIS EVENT.\nIndoor range practical pistol shooting match consisting of a 20-32 round course of fire involving movement\, navigating obstacles\, barriers and props to shoot at down range paper targets. Courses of fire are timed and hits are scored to measure the shooters speed and accuracy.\nPractical Pistol action shooting shooting improves your Pistol & PCC handling skills and shooting ability through many different courses of fire (stages) involving movement\, navigating obstacles and scoring hits on various paper\, steel\, stationary & moving targets. Activities & matches are open to all skill levels from entry level to advanced with safety and safe gun handling being  consistently taught\, supervised and enforced!
URL:https://gunstuff.tv/event/wincrest-sportsman-friday-april-24th/
LOCATION:184 Rhode Island Street\, Buffalo\, NY\, United States
GEO:42.89606;-78.886424
END:VEVENT
END:VCALENDAR