BEGIN:VCALENDAR
VERSION:2.0
PRODID:-//GunStuff TV - ECPv6.15.20//NONSGML v1.0//EN
CALSCALE:GREGORIAN
METHOD:PUBLISH
X-WR-CALNAME:GunStuff TV
X-ORIGINAL-URL:https://gunstuff.tv
X-WR-CALDESC:Events for GunStuff TV
REFRESH-INTERVAL;VALUE=DURATION:PT1H
X-Robots-Tag:noindex
X-PUBLISHED-TTL:PT1H
BEGIN:VTIMEZONE
TZID:UTC
BEGIN:STANDARD
TZOFFSETFROM:+0000
TZOFFSETTO:+0000
TZNAME:UTC
DTSTART:20250101T000000
END:STANDARD
END:VTIMEZONE
BEGIN:VEVENT
DTSTART;TZID=UTC:20260425T210000
DTEND;TZID=UTC:20260425T220000
DTSTAMP:20260421T173650
CREATED:20260421T200342Z
LAST-MODIFIED:20260421T200342Z
UID:10008487-1777150800-1777154400@gunstuff.tv
SUMMARY:Paul Bunyan IDPA Classifier Match
DESCRIPTION:IDPA 5×5 classifier match. Shooters wishing to get classified for IDPA may register here. If you attended the local GPA or IDPA match before this classifier match no further match fee is required. If you did not shoot the match beforehand the match fee is $10.\nCash or Check\nMatch fee $10
URL:https://gunstuff.tv/event/paul-bunyan-idpa-classifier-match/
LOCATION:18202 Meridian E\, Puyallup Washington\, United States
END:VEVENT
END:VCALENDAR