BEGIN:VCALENDAR
VERSION:2.0
PRODID:-//GunStuff TV - ECPv6.15.20//NONSGML v1.0//EN
CALSCALE:GREGORIAN
METHOD:PUBLISH
X-ORIGINAL-URL:https://gunstuff.tv
X-WR-CALDESC:Events for GunStuff TV
REFRESH-INTERVAL;VALUE=DURATION:PT1H
X-Robots-Tag:noindex
X-PUBLISHED-TTL:PT1H
BEGIN:VTIMEZONE
TZID:UTC
BEGIN:STANDARD
TZOFFSETFROM:+0000
TZOFFSETTO:+0000
TZNAME:UTC
DTSTART:20250101T000000
END:STANDARD
END:VTIMEZONE
BEGIN:VEVENT
DTSTART;TZID=UTC:20260414T220000
DTEND;TZID=UTC:20260415T010000
DTSTAMP:20260424T100426
CREATED:20260414T200154Z
LAST-MODIFIED:20260414T200154Z
UID:10007497-1776204000-1776214800@gunstuff.tv
SUMMARY:HSA April 2026 GPA
DESCRIPTION:Four or more stages\, 80 or more rounds or less. There is always the chance of a low light stage.\nShooters must be classified in a major shooting sport or have relevant match experience. Hearing protection and eye protection\, with side impact protection\, are required.\nMaximum 20 shooters. After 20 shooters are registered\, subsequent shooters will be on a wait list.
URL:https://gunstuff.tv/event/hsa-april-2026-gpa/
LOCATION:1793 Meadows Road\, Hellertown\, PA\, United States
GEO:40.588799;-75.313756
END:VEVENT
END:VCALENDAR