BEGIN:VCALENDAR
VERSION:2.0
PRODID:-//GunStuff TV - ECPv6.15.20//NONSGML v1.0//EN
CALSCALE:GREGORIAN
METHOD:PUBLISH
X-ORIGINAL-URL:https://gunstuff.tv
X-WR-CALDESC:Events for GunStuff TV
REFRESH-INTERVAL;VALUE=DURATION:PT1H
X-Robots-Tag:noindex
X-PUBLISHED-TTL:PT1H
BEGIN:VTIMEZONE
TZID:UTC
BEGIN:STANDARD
TZOFFSETFROM:+0000
TZOFFSETTO:+0000
TZNAME:UTC
DTSTART:20250101T000000
END:STANDARD
END:VTIMEZONE
BEGIN:VEVENT
DTSTART;TZID=UTC:20260411T140000
DTEND;TZID=UTC:20260411T230000
DTSTAMP:20260424T104609
CREATED:20260407T195438Z
LAST-MODIFIED:20260407T195438Z
UID:10007243-1775916000-1775948400@gunstuff.tv
SUMMARY:Salmon Valley Shooters Long Range clinic and match April 2026
DESCRIPTION:ShotMarker at 920 yards\nSteel shooting 250 to 1200 yards\nGear list\nRifle zeroed and capable of shooting moa\nScope with adjustable turret or Christmas tree ret (must have a moa or mil ret)\nSpotting scope/tripod 1 per 2 man team\nBinos 1 per 2 man team\nNote pad/clip board\nPencil\nCalculator\nShooting mat optional\nMinimum 40 rnds\nRear bag\nTasks to be covered\nShooter observer dialog\nRange estimation\nRange cards\nTgt acquisition\nUSMC Unknown Distance qual\nIf additional time permits bounce back drill or multiple threat engagement\nCourse of fire will be shot from the prone but if there are some old timers that need to set up a bench we can accommodate that
URL:https://gunstuff.tv/event/salmon-valley-shooters-long-range-clinic-and-match-april-2026/
LOCATION:178 Landfill Road\, Salmon Idaho\, United States
END:VEVENT
END:VCALENDAR