BEGIN:VCALENDAR
VERSION:2.0
PRODID:-//GunStuff TV - ECPv6.15.20//NONSGML v1.0//EN
CALSCALE:GREGORIAN
METHOD:PUBLISH
X-WR-CALNAME:GunStuff TV
X-ORIGINAL-URL:https://gunstuff.tv
X-WR-CALDESC:Events for GunStuff TV
REFRESH-INTERVAL;VALUE=DURATION:PT1H
X-Robots-Tag:noindex
X-PUBLISHED-TTL:PT1H
BEGIN:VTIMEZONE
TZID:UTC
BEGIN:STANDARD
TZOFFSETFROM:+0000
TZOFFSETTO:+0000
TZNAME:UTC
DTSTART:20250101T000000
END:STANDARD
END:VTIMEZONE
BEGIN:VEVENT
DTSTART;TZID=UTC:20260425T130000
DTEND;TZID=UTC:20260425T190000
DTSTAMP:20260424T055649
CREATED:20260421T200325Z
LAST-MODIFIED:20260421T200325Z
UID:10008337-1777122000-1777143600@gunstuff.tv
SUMMARY:NWCSA April 25 2026 2 Gun
DESCRIPTION:There is a 10 mph  club speed limit\nCheck in at 8:15\, safety briefing at 8:45\, first shots at 9:00\nThis will be a 4 stage PCSL match using both pistol and rifle during the same stage. 120 round count for both rifle and pistol\, feel free to bring more.\nRequirements-\n9mm or 45 pistol\nSemiautomatic rifle\, *** 22 long rifle only ***\nSturdy belt\n3x magazine pouch for pistol\nHolster that covers trigger completely\nAt least 1 magazine pouch for rifle magazine\, 2 would be best\n3 magazines for rifle and 3 for pistol\nRifle bag or case to store rifle when not shooting\nChamber flag for rifle\nThere is a 10 round magazine restriction as per CT. State law
URL:https://gunstuff.tv/event/nwcsa-april-25-2026-2-gun/
LOCATION:177 Route 44\, Colebrook CT\, United States
END:VEVENT
END:VCALENDAR