BEGIN:VCALENDAR
VERSION:2.0
PRODID:-//GunStuff TV - ECPv6.15.20//NONSGML v1.0//EN
CALSCALE:GREGORIAN
METHOD:PUBLISH
X-WR-CALNAME:GunStuff TV
X-ORIGINAL-URL:https://gunstuff.tv
X-WR-CALDESC:Events for GunStuff TV
REFRESH-INTERVAL;VALUE=DURATION:PT1H
X-Robots-Tag:noindex
X-PUBLISHED-TTL:PT1H
BEGIN:VTIMEZONE
TZID:UTC
BEGIN:STANDARD
TZOFFSETFROM:+0000
TZOFFSETTO:+0000
TZNAME:UTC
DTSTART:20250101T000000
END:STANDARD
END:VTIMEZONE
BEGIN:VEVENT
DTSTART;TZID=UTC:20260418T130000
DTEND;TZID=UTC:20260418T180000
DTSTAMP:20260424T073702
CREATED:20260414T200222Z
LAST-MODIFIED:20260414T200222Z
UID:10007756-1776517200-1776535200@gunstuff.tv
SUMMARY:NWCSA April 18 2026 IDPA Match
DESCRIPTION:This is a 6 stage match with a  warmup stage for 7 stages total.\nSafety brief\, pledge\, and walk through of first stages begins 8:45AM. Please arrive at least 30 minutes before start time to register and gear up.\nPayment is required when registering on Practiscore. You may withdraw from match any time before registration close date and a refund will be issued (minus credit card fees).\nNWCSA General Notes:\n•	There is a 10mph speed limit when driving on NWCSA property.\n•	While shooting the 180* rule must be respected and the muzzle of your firearm must always be pointed in the direction of a berm. Any trigger pull with muzzle pointed over the top of a berm will result in a match DQ.\n•	Stage boundary will include all the Action Pistol range and pavilion areas and end where parking lot begins.
URL:https://gunstuff.tv/event/nwcsa-april-18-2026-idpa-match/
LOCATION:177 Route 44\, Colebrook CT\, United States
END:VEVENT
END:VCALENDAR