BEGIN:VCALENDAR
VERSION:2.0
PRODID:-//GunStuff TV - ECPv6.15.20//NONSGML v1.0//EN
CALSCALE:GREGORIAN
METHOD:PUBLISH
X-WR-CALNAME:GunStuff TV
X-ORIGINAL-URL:https://gunstuff.tv
X-WR-CALDESC:Events for GunStuff TV
REFRESH-INTERVAL;VALUE=DURATION:PT1H
X-Robots-Tag:noindex
X-PUBLISHED-TTL:PT1H
BEGIN:VTIMEZONE
TZID:UTC
BEGIN:STANDARD
TZOFFSETFROM:+0000
TZOFFSETTO:+0000
TZNAME:UTC
DTSTART:20250101T000000
END:STANDARD
END:VTIMEZONE
BEGIN:VEVENT
DTSTART;TZID=UTC:20260425T140000
DTEND;TZID=UTC:20260425T200000
DTSTAMP:20260424T085526
CREATED:20260421T200322Z
LAST-MODIFIED:20260421T200322Z
UID:10008304-1777125600-1777147200@gunstuff.tv
SUMMARY:***Unlimited
DESCRIPTION:25 ARA Unlimited bullseye targets at 50 yards in 20 minutes.\nNo relay\, 10 minutes between cards.\n5 Card ARA Match.\nEach bull is scored as 100\, 50\, 25\, 10 or 0.\nAmerican Rimfire Association (ARA) Scoring rules.\nSign-in and Bench Assignments begins at 8am CST followed by a safety briefing at 8:45am.\nFirst shot down range at 9am.\nPrice: $30 ARA Seniors: JUNIORS (17yrs old and under) shoot free.\nShoot or watch. Everyone is welcome.
URL:https://gunstuff.tv/event/unlimited/
LOCATION:175 Dry Branch Road\, 2 N Spring St\, Sparta\, TN\, United States
GEO:35.931357;-85.475197
X-APPLE-STRUCTURED-LOCATION;VALUE=URI;X-ADDRESS=175 Dry Branch Road 2 N Spring St Sparta TN United States;X-APPLE-RADIUS=500;X-TITLE=2 N Spring St:geo:-85.475197,35.931357
END:VEVENT
BEGIN:VEVENT
DTSTART;TZID=UTC:20260425T140000
DTEND;TZID=UTC:20260425T200000
DTSTAMP:20260424T085526
CREATED:20260421T200322Z
LAST-MODIFIED:20260421T200322Z
UID:10008305-1777125600-1777147200@gunstuff.tv
SUMMARY:FACTORY Shooter
DESCRIPTION:25 ARA Factory bullseye targets at 50 yards in 20 minutes.\nNo relay\, 10 minutes between cards.\n5 Card ARA Match.\nEach bull is scored as 100\, 50\, 25\, 10 or 0.\nAmerican Rimfire Association (ARA) Scoring rules.\nSign-in and Bench Assignments begins at 8am CST followed by a safety briefing at 8:45am.\nFirst shot down range at 9am.\nPrice: $30 ARA Seniors: JUNIORS (17yrs old and under) shoot free.\nShoot or watch. Everyone is welcome.
URL:https://gunstuff.tv/event/factory-shooter/
LOCATION:175 Dry Branch Road\, 2 N Spring St\, Sparta\, TN\, United States
GEO:35.931357;-85.475197
X-APPLE-STRUCTURED-LOCATION;VALUE=URI;X-ADDRESS=175 Dry Branch Road 2 N Spring St Sparta TN United States;X-APPLE-RADIUS=500;X-TITLE=2 N Spring St:geo:-85.475197,35.931357
END:VEVENT
END:VCALENDAR