BEGIN:VCALENDAR
VERSION:2.0
PRODID:-//GunStuff TV - ECPv6.15.20//NONSGML v1.0//EN
CALSCALE:GREGORIAN
METHOD:PUBLISH
X-WR-CALNAME:GunStuff TV
X-ORIGINAL-URL:https://gunstuff.tv
X-WR-CALDESC:Events for GunStuff TV
REFRESH-INTERVAL;VALUE=DURATION:PT1H
X-Robots-Tag:noindex
X-PUBLISHED-TTL:PT1H
BEGIN:VTIMEZONE
TZID:UTC
BEGIN:STANDARD
TZOFFSETFROM:+0000
TZOFFSETTO:+0000
TZNAME:UTC
DTSTART:20250101T000000
END:STANDARD
END:VTIMEZONE
BEGIN:VEVENT
DTSTART;TZID=UTC:20260425T140000
DTEND;TZID=UTC:20260425T180000
DTSTAMP:20260424T060014
CREATED:20260421T200327Z
LAST-MODIFIED:20260421T200327Z
UID:10008354-1777125600-1777140000@gunstuff.tv
SUMMARY:MTSA USPSA Match April. 2026
DESCRIPTION:This is the April 2026 USPSA match. 5 stages with Classifier (TBA). Gate opens at 7:30 with match start at 9:00. Around 150 rounds.  Reregistration will close at 70 sign-ups. $25 match fee.\nRobert will be out of country for this match. Rick and Sue will need extra help for set up and match help.
URL:https://gunstuff.tv/event/mtsa-uspsa-match-april-2026/
LOCATION:175 Dry Branch Rd.\, Dixon Springs Tennessee\, United States
END:VEVENT
END:VCALENDAR