BEGIN:VCALENDAR
VERSION:2.0
PRODID:-//GunStuff TV - ECPv6.15.20//NONSGML v1.0//EN
CALSCALE:GREGORIAN
METHOD:PUBLISH
X-WR-CALNAME:GunStuff TV
X-ORIGINAL-URL:https://gunstuff.tv
X-WR-CALDESC:Events for GunStuff TV
REFRESH-INTERVAL;VALUE=DURATION:PT1H
X-Robots-Tag:noindex
X-PUBLISHED-TTL:PT1H
BEGIN:VTIMEZONE
TZID:UTC
BEGIN:STANDARD
TZOFFSETFROM:+0000
TZOFFSETTO:+0000
TZNAME:UTC
DTSTART:20250101T000000
END:STANDARD
END:VTIMEZONE
BEGIN:VEVENT
DTSTART;TZID=UTC:20260425T130000
DTEND;TZID=UTC:20260425T170000
DTSTAMP:20260424T085551
CREATED:20260421T200316Z
LAST-MODIFIED:20260421T200316Z
UID:10008259-1777122000-1777136400@gunstuff.tv
SUMMARY:AAFG Galactic Pistol Alliance (GPA) CLUB MATCH –  (4/25/2026)
DESCRIPTION:Galactic Pistol Alliance (GPA).\n******* IF YOU DO NOT HAVE A GPA MEMBER NUMBER GO TO https://galacticpistolalliance.com/*********\n******************GPA MEMBERS RECEIVE A $5.00 DISCOUNT ON THE MATCH FEE***************\nIDPA or USPSA RIGS ARE PERMITTED.\nGPA Rules Highlights:\n· 24 round maximum per stage\n· If there is a fault line you must shoot from cover\, slicing the pie\n· No fault line = no tactical priority. Engage targets in whatever order you prefer\n· Magazines may be loaded full capacity / carry as many as you like / drop at any time with no PE\n· Reload anytime or any place\n· One mandatory reload per stage\n· Unlimited non-threats / unlimited steel\n· Targets may be required to be shot while moving.
URL:https://gunstuff.tv/event/aafg-galactic-pistol-alliance-gpa-club-match-4-25-2026/
LOCATION:1730 Saint Margarets Road\, Maryland Line\, MD\, United States
GEO:39.713941;-76.651296
END:VEVENT
END:VCALENDAR