BEGIN:VCALENDAR
VERSION:2.0
PRODID:-//GunStuff TV - ECPv6.15.20//NONSGML v1.0//EN
CALSCALE:GREGORIAN
METHOD:PUBLISH
X-WR-CALNAME:GunStuff TV
X-ORIGINAL-URL:https://gunstuff.tv
X-WR-CALDESC:Events for GunStuff TV
REFRESH-INTERVAL;VALUE=DURATION:PT1H
X-Robots-Tag:noindex
X-PUBLISHED-TTL:PT1H
BEGIN:VTIMEZONE
TZID:UTC
BEGIN:STANDARD
TZOFFSETFROM:+0000
TZOFFSETTO:+0000
TZNAME:UTC
DTSTART:20250101T000000
END:STANDARD
END:VTIMEZONE
BEGIN:VEVENT
DTSTART;TZID=UTC:20260418T170000
DTEND;TZID=UTC:20260418T220000
DTSTAMP:20260424T074035
CREATED:20260414T200223Z
LAST-MODIFIED:20260414T200223Z
UID:10007760-1776531600-1776549600@gunstuff.tv
SUMMARY:Renton IDPA  2026 - April
DESCRIPTION:This is our regular monthly IDPA club match.\nIF YOU ARE A NEW COMPETITOR TO RENTON OR TO IDPA YOU MUST ATTEND THE NEW SHOOTER ORIENTATION WHICH STARTS AT 8:30am. PLEASE BE EARLY!!!\nPayment and Squad selection are made at the range the morning of the match and begins at approximately 8:30 am.\nMonthly Match Fees:\nStandard Rate – $25.00\nActive Renton Gun Club Members – $15.00\nActive Duty Military – $10.00\nJunior (12 – 17) – $10.00\nWorking Safety Officer – $10.00 (Only 2 per squad)\nPayment and Squad selection at the range the morning of the match. Cash\, Checks to RFGC accepted. Credit Cards only accepted at the main building and can be used for match fees. If using a credit card please register first then get payment receipt when they open at 10 am then bring back a copy of the receipt as proof of payment. Late registrations (after 10 am) will not be accepted.\nIDPA Matches are held every Third Saturday of the month (January – December). Shooting starts at 10am and ends around 3 but may run later if more participants attend. Setup for Saturday match starts at 7:30 am the day of the match. There isn’t compensation for setup crew other than our appreciation. The match start time and number of stages is a function of how much help there is during setup.
URL:https://gunstuff.tv/event/renton-idpa-2026-april/
LOCATION:17205 Southeast 144th Street\, Renton Washington\, United States
END:VEVENT
END:VCALENDAR