BEGIN:VCALENDAR
VERSION:2.0
PRODID:-//GunStuff TV - ECPv6.15.20//NONSGML v1.0//EN
CALSCALE:GREGORIAN
METHOD:PUBLISH
X-WR-CALNAME:GunStuff TV
X-ORIGINAL-URL:https://gunstuff.tv
X-WR-CALDESC:Events for GunStuff TV
REFRESH-INTERVAL;VALUE=DURATION:PT1H
X-Robots-Tag:noindex
X-PUBLISHED-TTL:PT1H
BEGIN:VTIMEZONE
TZID:UTC
BEGIN:STANDARD
TZOFFSETFROM:+0000
TZOFFSETTO:+0000
TZNAME:UTC
DTSTART:20250101T000000
END:STANDARD
END:VTIMEZONE
BEGIN:VEVENT
DTSTART;TZID=UTC:20260418T140000
DTEND;TZID=UTC:20260418T190000
DTSTAMP:20260424T074035
CREATED:20260414T200228Z
LAST-MODIFIED:20260414T200228Z
UID:10007814-1776520800-1776538800@gunstuff.tv
SUMMARY:April GRGC 2-Gun Match
DESCRIPTION:The match will consist of 4-6 stages. Each stage may be rifle only\, pistol only or a combination of both.\nMatch Fee                      $20\nSetup (Optional)              8am\nRegistration                     9am\nShooters Meeting            9:30am\nYou must attend the Shooters Meeting to be allowed to shoot.\nWhile it is set up as a competition\, it is not an overly competitive environment for new shooters. Just come and have fun\nDistances will vary from arm’s length to 150 yards.\nCombined round count will not exceed 125 rounds if shot clean.\nStages are set up so they can be completed with only iron sights.\nStages are designed to challenge and increase the shooter’s weapon handling skills through physical exertion as well as shooting from unnatural positions.
URL:https://gunstuff.tv/event/april-grgc-2-gun-match/
LOCATION:1718 Prices Chapel Road\, Bowling Green Kentucky\, United States
END:VEVENT
END:VCALENDAR