BEGIN:VCALENDAR
VERSION:2.0
PRODID:-//GunStuff TV - ECPv6.15.20//NONSGML v1.0//EN
CALSCALE:GREGORIAN
METHOD:PUBLISH
X-WR-CALNAME:GunStuff TV
X-ORIGINAL-URL:https://gunstuff.tv
X-WR-CALDESC:Events for GunStuff TV
REFRESH-INTERVAL;VALUE=DURATION:PT1H
X-Robots-Tag:noindex
X-PUBLISHED-TTL:PT1H
BEGIN:VTIMEZONE
TZID:UTC
BEGIN:STANDARD
TZOFFSETFROM:+0000
TZOFFSETTO:+0000
TZNAME:UTC
DTSTART:20250101T000000
END:STANDARD
END:VTIMEZONE
BEGIN:VEVENT
DTSTART;TZID=UTC:20260411T133000
DTEND;TZID=UTC:20260411T183000
DTSTAMP:20260424T104542
CREATED:20260407T195427Z
LAST-MODIFIED:20260407T195427Z
UID:10007133-1775914200-1775932200@gunstuff.tv
SUMMARY:Cherokee Gun Club USPSA 4-11-2026
DESCRIPTION:Monthly USPSA match\nDo NOT attempt to check in after 9:15…..please show up early.\nIMPORTANT NOTE: Effective immediately\, all Sig Sauer P320 pistols are prohibited from use in the Cherokee Gun Club match due to ongoing safety concerns involving unintended discharges reported with this model. This decision prioritizes the safety of all competitors\, staff\, and spectators. The ban will remain in place until further notice.\nSafety glasses must be worn at all times.\nOn site check-in CLOSES AT 9:15 am the morning of the match. You will not be allowed to shoot if you show up after 9:15.\n“in the parking lot at 9:15 doesn’t count”\nOn site check-in opens 8:00(ish) am\nNew Shooter Meeting 9:00 am\nShooter Briefing 9:20 am\nFirst Shot 9:30 am\nRefund policy- if you withdraw before registration closes\, you will be issued a full refund. If you withdraw after registration closes or you are a no show\, NO refunds will be issued.\nWaitlist Policy- You have 24hrs after being approved to pay. If payment is not received within 24hrs\, you will be withdrawn and your spot will be given to the next person in line\nMatch Director\nRyan Reid\n770-367-9662
URL:https://gunstuff.tv/event/cherokee-gun-club-uspsa-4-11-2026/
LOCATION:1700 Candler Road\, Gainesville Georgia\, United States
END:VEVENT
END:VCALENDAR