BEGIN:VCALENDAR
VERSION:2.0
PRODID:-//GunStuff TV - ECPv6.15.20//NONSGML v1.0//EN
CALSCALE:GREGORIAN
METHOD:PUBLISH
X-WR-CALNAME:GunStuff TV
X-ORIGINAL-URL:https://gunstuff.tv
X-WR-CALDESC:Events for GunStuff TV
REFRESH-INTERVAL;VALUE=DURATION:PT1H
X-Robots-Tag:noindex
X-PUBLISHED-TTL:PT1H
BEGIN:VTIMEZONE
TZID:UTC
BEGIN:STANDARD
TZOFFSETFROM:+0000
TZOFFSETTO:+0000
TZNAME:UTC
DTSTART:20250101T000000
END:STANDARD
END:VTIMEZONE
BEGIN:VEVENT
DTSTART;TZID=UTC:20260425T140000
DTEND;TZID=UTC:20260425T210000
DTSTAMP:20260421T173820
CREATED:20260421T200341Z
LAST-MODIFIED:20260421T200341Z
UID:10008482-1777125600-1777150800@gunstuff.tv
SUMMARY:Escondido Fish & Game Association EFGA  - FUN ACTION Match 11. - 4rd Saturday.  April 25 2026
DESCRIPTION:This is an action match using paper and steel targets.\nLocation: 150 Yard Range\n4 Stages\nHit Factor Scoring.\nApprox. 100 Rounds.\nGearu must comply to chosen division. No steel core ammunition. No concealed waistband holsters or appendix drawing.  No clip on holsters. The holster must be attached to the outside of your belt. Holster must completely cover the trigger and trigger guard.  If your holster do not comply\, you cannot shoot. Safety rule.\nRegistration fee:\nMembers: $20.00\nNon-Members: $25.00\nWe do not take payments online at this time.\nPlease bring cash in the exact amount if possible.\nCheck-in: 7:15a.m. – 8:00a.m.  at the (150 long rifle range)\nMandatory Safety Briefing at 8:15a.m.\nHammer down 8:30a.m.\nAll shooters must attend the Safety Briefing. If you miss the Safety Briefing\, you cannot shoot. Range rules.\nDue to range restrictions\, we have limited slots on each squad.  Walk-in’s will not be allowed.  Unless prior authorization by the Match Director.\nRegistering does not guaranty you will be shooting this match. If you don’t see your name on a squad\, you cannot shoot.  So please make sure you confirm you’re on a squad by scrolling down and clicking “Select Squad”.  Check to make sure your name is listed on the squad. Otherwise\, other shooters will take your spot on the squad.\nIf it says the “Match is full” but there are empty spaces on a squad\, it means there are registered shooters but didn’t pick a squad yet for one reason or another. Please check back later\, i will open registration again for those empty spots. Please don’t text or email me to get those spots.  it’s first come first serve.\nIf you are a current EFGA member wanting to shoot this match\, please email me so i may add your email to the early registration list. I will send out an email with a code for early registration for members only the Friday before the public registration.\nUnfortunately\, we don’t have paid help. So\, we need your help with setup and break down. With everyone contributing\, setup and break down will be quick.\nAll participants are expected to help tape targets\, pick up brass and reset the stage for the next competitor.\nIf you have questions\, drop me an email.\nLoupaz2011@gmail.com\nLou Paz\nShoot Chair
URL:https://gunstuff.tv/event/escondido-fish-game-association-efga-fun-action-match-11-4rd-saturday-april-25-2026/
LOCATION:16525 Guejito Road\, Escondido California\, United States
END:VEVENT
END:VCALENDAR