BEGIN:VCALENDAR
VERSION:2.0
PRODID:-//GunStuff TV - ECPv6.15.20//NONSGML v1.0//EN
CALSCALE:GREGORIAN
METHOD:PUBLISH
X-WR-CALNAME:GunStuff TV
X-ORIGINAL-URL:https://gunstuff.tv
X-WR-CALDESC:Events for GunStuff TV
REFRESH-INTERVAL;VALUE=DURATION:PT1H
X-Robots-Tag:noindex
X-PUBLISHED-TTL:PT1H
BEGIN:VTIMEZONE
TZID:UTC
BEGIN:STANDARD
TZOFFSETFROM:+0000
TZOFFSETTO:+0000
TZNAME:UTC
DTSTART:20250101T000000
END:STANDARD
END:VTIMEZONE
BEGIN:VEVENT
DTSTART;TZID=UTC:20260418T140000
DTEND;TZID=UTC:20260418T200000
DTSTAMP:20260424T071759
CREATED:20260414T200208Z
LAST-MODIFIED:20260414T200208Z
UID:10007637-1776520800-1776542400@gunstuff.tv
SUMMARY:APSC USPSA 18APR2026
DESCRIPTION:Join us for a USPSA match Saturday\, 18APR\, at Austin Rifle Club.\n***We are a card-only payment match***\nWant $5 off your match fee while supporting APSC?\nBecome a member of the club: https://apscatx.com/join\nRegistration for this match will be online only\, with match fees paid through Practiscore.  Register\, pay\, and choose your squad.  If you’re not on a squad by match day we’ll put you into the next open slot.  When you show up at the match\, be sure to help with setup\, this is a volunteer sport\, after all\, then we’ll have a quick shooter meeting and you can go straight to your squads.\nIf you’re new to USPSA\, please be there by 9:10 for a brief new shooter meeting in bay I\, the second bay with stages near the parking lot.  We’ll run you through the basic safety rules and explain how the game works.\nIf the match is full\, register on the waiting list\, because there’s a good chance we’ll be able to squeeze you into the match\, and if not\, we’ll do our best to get you into the next one.\nAny other questions?  Contact us at club@austinpracticalshooting.com\nMatch Details\n8:00 am Setup starts\n9:10 am New to USPSA Shooters\, Required Safety Briefing.\n9:15 am Shooter’s meeting\n9:20 am Match starts – Hammer DOWN!\n6 stages\nRound Count\n~130 but as always\, bring more\nMatch Fee\n$25 for non-APSC Members\, $20 for APSC Members – join here https://apscatx.com/join. Juniors under 18 are $10\, payable online during registration.  We’ll issue refunds (minus the stripe fee\, ~90 cents) for anyone that notifies us they can’t make it by 8 AM Friday.\nLocation\nAustin Rifle Club 16312 Littig Rd Manor\, TX 78653\nMatch Scores\nWill be Posted to PractiScore https://practiscore.com/results/\nType APSC in the “Search” box and select the match you want to see.\nScores will be posted as quickly as possible following the end of the match.\nFind Austin Practical Shooting Club on Facebook for more information\nUSPSA Match: 1st and 3rd Saturdays\nSteel Match: 4th Sunday of every month
URL:https://gunstuff.tv/event/apsc-uspsa-18apr2026/
LOCATION:16312 Littig RD\, Manor\, TX\, United States
GEO:30.343501;-97.512902
END:VEVENT
END:VCALENDAR