BEGIN:VCALENDAR
VERSION:2.0
PRODID:-//GunStuff TV - ECPv6.15.20//NONSGML v1.0//EN
CALSCALE:GREGORIAN
METHOD:PUBLISH
X-ORIGINAL-URL:https://gunstuff.tv
X-WR-CALDESC:Events for GunStuff TV
REFRESH-INTERVAL;VALUE=DURATION:PT1H
X-Robots-Tag:noindex
X-PUBLISHED-TTL:PT1H
BEGIN:VTIMEZONE
TZID:UTC
BEGIN:STANDARD
TZOFFSETFROM:+0000
TZOFFSETTO:+0000
TZNAME:UTC
DTSTART:20250101T000000
END:STANDARD
END:VTIMEZONE
BEGIN:VEVENT
DTSTART;TZID=UTC:20260418T123000
DTEND;TZID=UTC:20260419T193000
DTSTAMP:20260419T135250
CREATED:20260414T200219Z
LAST-MODIFIED:20260414T200219Z
UID:10007725-1776515400-1776627000@gunstuff.tv
SUMMARY:PNTC 2026 April Mid-Atlantic 2 Gun Match Series Sat-or-Sun
DESCRIPTION:Please note; This link combines both Saturday and Sunday registrations. New for 2026! This is now a 6 match series! In order to accommodate schedules\, shooters can opt to shoot either Saturday or Sunday for each month it is offered.\nI HOPE YOU ARE FIRED UP!!!  This 2 Gun series emphasizes movement\, efficient transitions\, and real-world weapon handling under a tactical framework. Expect a mix of close-quarters engagements\, “jungle-runs”\, and shots up to 500 yards\, utilizing cover and varied shooting positions to simulate a high-readiness environment. Participants will be required to retain rifle throughout the courses of fire\, with either a two-point or single point sling.\nWhile the core concept of the match is the same – A few key changes with penalties\, such as the elimination of Charlie Hit penalty\, have been made to promote combat effective speed. An updated rule book\, will provide the shooter with the MD’s philosophy and reasons for the key adjustments\, which will be available soon!  \nNote: This match is a SERIES – to be eligible for prizes after finale competitors MUST shoot AT LEAST 4 of the 6 matches. For those that compete in all 6 matches\, your best 4 matches will go toward your standing.  TO QUALIFY for PRIZE Table shooters MUST shoot in TACTICAL SCOPE division. There  will also be random give away prizes for all participants!\nARE YOU FIRED UP?!?!  LESTS GET IT!!!!!
URL:https://gunstuff.tv/event/pntc-2026-april-mid-atlantic-2-gun-match-series-sat-or-sun/
LOCATION:1624 Brannons Ford Rd\, Gerrardstown West Virginia\, United States
END:VEVENT
END:VCALENDAR