BEGIN:VCALENDAR
VERSION:2.0
PRODID:-//GunStuff TV - ECPv6.15.20//NONSGML v1.0//EN
CALSCALE:GREGORIAN
METHOD:PUBLISH
X-WR-CALNAME:GunStuff TV
X-ORIGINAL-URL:https://gunstuff.tv
X-WR-CALDESC:Events for GunStuff TV
REFRESH-INTERVAL;VALUE=DURATION:PT1H
X-Robots-Tag:noindex
X-PUBLISHED-TTL:PT1H
BEGIN:VTIMEZONE
TZID:UTC
BEGIN:STANDARD
TZOFFSETFROM:+0000
TZOFFSETTO:+0000
TZNAME:UTC
DTSTART:20250101T000000
END:STANDARD
END:VTIMEZONE
BEGIN:VEVENT
DTSTART;TZID=UTC:20260426T180000
DTEND;TZID=UTC:20260426T213000
DTSTAMP:20260424T085728
CREATED:20260421T200351Z
LAST-MODIFIED:20260421T200351Z
UID:10008572-1777226400-1777239000@gunstuff.tv
SUMMARY:TAC2 Steel Challenge April 26th 2026
DESCRIPTION:TAC2 Monthly Steel Challenge Match – 5 stages.   Shoot 2 divisions for $25 (members $10).\nBring Cash to register for event.
URL:https://gunstuff.tv/event/tac2-steel-challenge-april-26th-2026/
LOCATION:1610 Robert Harmon Rd.\, Greeneville TN\, United States
END:VEVENT
END:VCALENDAR