BEGIN:VCALENDAR
VERSION:2.0
PRODID:-//GunStuff TV - ECPv6.15.20//NONSGML v1.0//EN
CALSCALE:GREGORIAN
METHOD:PUBLISH
X-ORIGINAL-URL:https://gunstuff.tv
X-WR-CALDESC:Events for GunStuff TV
REFRESH-INTERVAL;VALUE=DURATION:PT1H
X-Robots-Tag:noindex
X-PUBLISHED-TTL:PT1H
BEGIN:VTIMEZONE
TZID:UTC
BEGIN:STANDARD
TZOFFSETFROM:+0000
TZOFFSETTO:+0000
TZNAME:UTC
DTSTART:20250101T000000
END:STANDARD
END:VTIMEZONE
BEGIN:VEVENT
DTSTART;TZID=UTC:20260411T130000
DTEND;TZID=UTC:20260411T200000
DTSTAMP:20260424T104535
CREATED:20260407T195431Z
LAST-MODIFIED:20260407T195431Z
UID:10007176-1775912400-1775937600@gunstuff.tv
SUMMARY:HCGC April 2026 22LR PRS Style Match
DESCRIPTION:This will be a 10 stage event with targets ranging from 25 to 250 yards and sizes from 1/2in to 8in.  Several shooting props will be used.
URL:https://gunstuff.tv/event/hcgc-april-2026-22lr-prs-style-match/
LOCATION:1605 Highway 94\, Carthage Illinois\, United States
END:VEVENT
END:VCALENDAR