BEGIN:VCALENDAR
VERSION:2.0
PRODID:-//GunStuff TV - ECPv6.15.20//NONSGML v1.0//EN
CALSCALE:GREGORIAN
METHOD:PUBLISH
X-ORIGINAL-URL:https://gunstuff.tv
X-WR-CALDESC:Events for GunStuff TV
REFRESH-INTERVAL;VALUE=DURATION:PT1H
X-Robots-Tag:noindex
X-PUBLISHED-TTL:PT1H
BEGIN:VTIMEZONE
TZID:UTC
BEGIN:STANDARD
TZOFFSETFROM:+0000
TZOFFSETTO:+0000
TZNAME:UTC
DTSTART:20250101T000000
END:STANDARD
END:VTIMEZONE
BEGIN:VEVENT
DTSTART;TZID=UTC:20260426T170000
DTEND;TZID=UTC:20260426T220000
DTSTAMP:20260421T173826
CREATED:20260421T200348Z
LAST-MODIFIED:20260421T200348Z
UID:10008544-1777222800-1777240800@gunstuff.tv
SUMMARY:MRCPS Multigun April 2026
DESCRIPTION:Monthly Multigun at MRC! Online payment required after approval.\n******************************************************************************************\nMarysville Rifle Club has decided to move to SAME DAY SETUP. Stage designs and WSB’s will be approved and clearly drawn out prior to match day. The gates will open at 8am Sunday. If you’re shooting we expect you to arrive at 8:00-8:30 and be an active participant in setup. The stage designer will participate in building and directing construction of their stage. The match director will approve the layout before nailing down. The match will not begin until all stages are constructed and ready to go. You will help tear down the match.\nThis is common practice for clubs in other sections and other states. We know there will be a learning curve for all of us. Please bear with us. More info to come.\n******************************************************************************************\nStaff\, Please ARRIVE around 8:00am. Shooters\, please arrive around 8:30.\nFIRST SHOT AT 10:00am! (or whenever we’re done building stages)\nSafety check required for new multigun shooters. Safety checks will be done on Saturday by appointment.\nThere are typically 4 stages. The required round count is usually around 60-60-60 for 3-gun and 120-60 (pistol-rifle) for 2-gun. Sometimes there are few shotgun slug or 00 buck shot targets. This won’t be finalized until after setup. Usually an email is sent to the registered shooters the evening before the match with the minimum required rounds.\nAmmunition requirements:\nNo tracer\, green tip\, penetrator\, or steel core bullets\nBirdshot #6-8\nNotes:\n-For more detailed division rules please see this public Facebook post: https://www.facebook.com/share/kkokW3bnFLkDKVif/?mibextid=QwDbR1\n-3×4 is our outlaw version of 2×4. You are allowed to swap your PCC for another platform on a per stage basis. Warning -> there may be birdshot ONLY targets that you are still required to use your shotgun for…\n-Due to the current ammo ‘climate’ we are running some experimental divisions. Economy replaces the .22 division variants to allow more freedom to use budget calibers. Gun configuration may be changed stage to stage. For example: you could use a 22LR or 9mm or 223 “rifle.” You will still want to use a .223/5.56 or greater cartridge for 100 yard targets on one stage.
URL:https://gunstuff.tv/event/mrcps-multigun-april-2026/
LOCATION:1601 Lakewood Rd\, Arlington WA\, United States
END:VEVENT
END:VCALENDAR