BEGIN:VCALENDAR
VERSION:2.0
PRODID:-//GunStuff TV - ECPv6.15.20//NONSGML v1.0//EN
CALSCALE:GREGORIAN
METHOD:PUBLISH
X-ORIGINAL-URL:https://gunstuff.tv
X-WR-CALDESC:Events for GunStuff TV
REFRESH-INTERVAL;VALUE=DURATION:PT1H
X-Robots-Tag:noindex
X-PUBLISHED-TTL:PT1H
BEGIN:VTIMEZONE
TZID:UTC
BEGIN:STANDARD
TZOFFSETFROM:+0000
TZOFFSETTO:+0000
TZNAME:UTC
DTSTART:20250101T000000
END:STANDARD
END:VTIMEZONE
BEGIN:VEVENT
DTSTART;TZID=UTC:20260425T150000
DTEND;TZID=UTC:20260425T210000
DTSTAMP:20260421T195823
CREATED:20260421T200314Z
LAST-MODIFIED:20260421T200314Z
UID:10008245-1777129200-1777150800@gunstuff.tv
SUMMARY:Cowboy Action April 25\, 2026
DESCRIPTION:Regular monthly match
URL:https://gunstuff.tv/event/cowboy-action-april-25-2026/
LOCATION:15850 MT HWY 21\, Augusta\, MT\, United States
GEO:47.444053;-112.513362
END:VEVENT
BEGIN:VEVENT
DTSTART;TZID=UTC:20260425T150000
DTEND;TZID=UTC:20260425T210000
DTSTAMP:20260421T195823
CREATED:20260421T200315Z
LAST-MODIFIED:20260421T200315Z
UID:10008251-1777129200-1777150800@gunstuff.tv
SUMMARY:April 25\, 2026 Wild Bunch
DESCRIPTION:Monthly shoot
URL:https://gunstuff.tv/event/april-25-2026-wild-bunch/
LOCATION:15850 MT HWY 21\, Augusta\, MT\, United States
GEO:47.444053;-112.513362
END:VEVENT
END:VCALENDAR